BEGIN:VCALENDAR
VERSION:2.0
PRODID:-//Date iCal v2.14-dev//NONSGML kigkonsult.se iCalcreator 2.16.6//
METHOD:PUBLISH
X-WR-CALNAME;VALUE=TEXT:Greater Baltimore Cultural Alliance
BEGIN:VTIMEZONE
TZID:America/New_York
BEGIN:STANDARD
DTSTART:20251102T020000
TZOFFSETFROM:-0400
TZOFFSETTO:-0500
TZNAME:EST
END:STANDARD
BEGIN:DAYLIGHT
DTSTART:20260308T020000
TZOFFSETFROM:-0500
TZOFFSETTO:-0400
TZNAME:EDT
END:DAYLIGHT
END:VTIMEZONE
BEGIN:VEVENT
UID:calendar.38512.field_fc_date.0@culturefly.org
DTSTAMP:20260420T164153Z
ATTACH;FMTTYPE=image/jpeg:https://culturefly.org/sites/default/files/event-
 image/7-Japhet%20Chukwuma_20230918_JC_24675.jpg
CATEGORIES:Lectures/ Workshops,Activities,Other
CREATED:20250822T160750Z
DESCRIPTION:Peace Gathering Gardens for Peace Friday, September 19, 9:30 
 am AA&CC Asian Garden, Osler Drive Entrance to the Center for the Arts, 
 Towson  University. 1 Fine Arts Drive, Towson, MD 21204 Cultivate a cult
 ure of friendship and community and recognize the  International Day of Pe
 ace. Join a ceremonial raking of the Japanese word for  peace (heiwa) in A
 A&CC’s Asian Garden, while collectively envisioning and  promoting peace 
 with others.\n\nImage: AA&CC Asian Garden photo by Japhet Chukwuma.
DTSTART;TZID=America/New_York:20250919T093000
DTEND;TZID=America/New_York:20250919T110000
LAST-MODIFIED:20250825T142800Z
LOCATION:AA&CC Asian Garden, Osler Drive Entrance to the Center for the Ar
 ts, Towson University, 1 Fine Arts Drive, Towson, MD
SUMMARY:Gardens for Peace
URL:https://www.towson.edu/campus/artsculture/centers/asianarts/events/
X-GBCA-NID:38512
END:VEVENT
END:VCALENDAR
