BEGIN:VCALENDAR
VERSION:2.0
PRODID:-//Date iCal v2.14-dev//NONSGML kigkonsult.se iCalcreator 2.16.6//
METHOD:PUBLISH
X-WR-CALNAME;VALUE=TEXT:Greater Baltimore Cultural Alliance
BEGIN:VTIMEZONE
TZID:America/New_York
BEGIN:STANDARD
DTSTART:20251102T020000
TZOFFSETFROM:-0400
TZOFFSETTO:-0500
TZNAME:EST
END:STANDARD
BEGIN:DAYLIGHT
DTSTART:20260308T020000
TZOFFSETFROM:-0500
TZOFFSETTO:-0400
TZNAME:EDT
END:DAYLIGHT
END:VTIMEZONE
BEGIN:VEVENT
UID:calendar.38419.field_fc_date.0@culturefly.org
DTSTAMP:20260419T122225Z
ATTACH;FMTTYPE=image/png:https://culturefly.org/sites/default/files/event-i
 mage/Virginia%20Rose%20Ken%20Shep%20%28700%20x%20500%20px%29_0.png
CATEGORIES:Exhibition
CREATED:20250807T015431Z
DESCRIPTION:*Gallery I | /Clarity & Perspective/: *Group exhibit that invit
 es a fresh  look at the stories often told about Black identity and histor
 y. Curated by:  C.T. Denby.\n\n*Gallery II | /ImPRINT/:* Group exhibit fea
 turing works by Martin Krafft,  Donald Depuydt, and Alexander D’Agostino
 .\n\n*Reception:* September 19, 2025, 6-8pm
DTSTART;TZID=America/New_York:20250815T100000
DTEND;TZID=America/New_York:20250815T200000
EXDATE;TZID=America/New_York:20250901T100000
GEO:+39.292068;-76.804963
LAST-MODIFIED:20250812T145830Z
LOCATION:Howard County Center for the Arts, 8510 High Ridge Road, Ellicot
 t City, MD
RRULE:FREQ=WEEKLY;UNTIL=20250928T075959Z;INTERVAL=1;BYDAY=MO,TU,WE,TH,FR;WK
 ST=SU
SUMMARY:HoCo Arts Gallery Exhibits: Clarity & Perspective and ImPRINT
URL:https://www.hocoarts.org/exhibits
X-GBCA-NID:38419
END:VEVENT
END:VCALENDAR
