BEGIN:VCALENDAR
VERSION:2.0
PRODID:-//Date iCal v2.14-dev//NONSGML kigkonsult.se iCalcreator 2.16.6//
METHOD:PUBLISH
X-WR-CALNAME;VALUE=TEXT:Greater Baltimore Cultural Alliance
BEGIN:VTIMEZONE
TZID:America/New_York
BEGIN:STANDARD
DTSTART:20251102T020000
TZOFFSETFROM:-0400
TZOFFSETTO:-0500
TZNAME:EST
END:STANDARD
BEGIN:DAYLIGHT
DTSTART:20260308T020000
TZOFFSETFROM:-0500
TZOFFSETTO:-0400
TZNAME:EDT
END:DAYLIGHT
END:VTIMEZONE
BEGIN:VEVENT
UID:calendar.38380.field_fc_date.0@culturefly.org
DTSTAMP:20260420T214732Z
ATTACH;FMTTYPE=image/png:https://culturefly.org/sites/default/files/event-i
 mage/Falling%20in%20Love-2-1.png
CATEGORIES:Activities,GBCA Events
CREATED:20250805T153620Z
DESCRIPTION:Get ready to fall into love, into the music, and into the sea
 son with  /Falling Into Love/, a laid-back, heartwarming jazz cabaret th
 at celebrates  all the magic of autumn. Featuring three dynamic vocalists 
 - Jennifer Blades,  Markella Meiller, and Sienna Paley, and a stellar t
 rio - Mathew Lane  (piano), Chris Chlumsky (bass), and Zach Steckel (dru
 ms), this show is a  musical love letter to fall and all the transformati
 on it brings.
DTSTART;TZID=America/New_York:20250920T190000
DTEND;TZID=America/New_York:20250920T220000
LAST-MODIFIED:20250812T150001Z
LOCATION:BCAG Catonsville Clubhouse , Suite 200, 10 St. Timothys Lane, C
 atonsville, MD
SUMMARY:Falling in Love: A Jazz Cabaret
URL:https://www.bcartsguild.org/event-details/falling-in-love-a-jazz-cabare
 t
X-GBCA-NID:38380
END:VEVENT
END:VCALENDAR
