BEGIN:VCALENDAR
VERSION:2.0
PRODID:-//Date iCal v2.14-dev//NONSGML kigkonsult.se iCalcreator 2.16.6//
METHOD:PUBLISH
X-WR-CALNAME;VALUE=TEXT:Greater Baltimore Cultural Alliance
BEGIN:VTIMEZONE
TZID:America/New_York
BEGIN:STANDARD
DTSTART:20251102T020000
TZOFFSETFROM:-0400
TZOFFSETTO:-0500
TZNAME:EST
END:STANDARD
BEGIN:DAYLIGHT
DTSTART:20260308T020000
TZOFFSETFROM:-0500
TZOFFSETTO:-0400
TZNAME:EDT
END:DAYLIGHT
END:VTIMEZONE
BEGIN:VEVENT
UID:calendar.38378.field_fc_date.0@culturefly.org
DTSTAMP:20260420T084741Z
ATTACH;FMTTYPE=image/png:https://culturefly.org/sites/default/files/event-i
 mage/Celtic%20Music%20Class_29.png
CATEGORIES:Activities,GBCA Events
CREATED:20250805T151759Z
DESCRIPTION:*Celtic Music Class & Session- Tuesdays*\n\nTuesday Evenings, 
 Catonsville Clubhouse, 10 St Timothy’s Lane, Catonsville,  MD, 21228\n
 \n- Intermediate and advanced class & session: 7:30-9:30 pm\n\n- Beginner 
 class & “slow session”: 6:30-7:20\n\n*Class & Session Membership Cost: $28
 .50/month or $22.50 for three Tuesdays,  or $12.50 for two Tuesdays or $9
 .50 for a single Tuesday- Choose your  ticket!*\n\n*What is it?*
DTSTART;TZID=America/New_York:20250916T183000
DTEND;TZID=America/New_York:20250916T213000
LAST-MODIFIED:20250812T150001Z
LOCATION:BCAG Catonsville Clubhouse , Suite 200, 10 St. Timothys Lane, C
 atonsville, MD
SUMMARY:Celtic Music Class & Session - September
URL:https://www.bcartsguild.org/event-details/celtic-music-class-session-se
 ptember-2025-09-16-18-30
X-GBCA-NID:38378
END:VEVENT
END:VCALENDAR
