BEGIN:VCALENDAR
VERSION:2.0
PRODID:-//Date iCal v2.14-dev//NONSGML kigkonsult.se iCalcreator 2.16.6//
METHOD:PUBLISH
X-WR-CALNAME;VALUE=TEXT:Greater Baltimore Cultural Alliance
BEGIN:VTIMEZONE
TZID:America/New_York
BEGIN:STANDARD
DTSTART:20251102T020000
TZOFFSETFROM:-0400
TZOFFSETTO:-0500
TZNAME:EST
END:STANDARD
BEGIN:DAYLIGHT
DTSTART:20260308T020000
TZOFFSETFROM:-0500
TZOFFSETTO:-0400
TZNAME:EDT
END:DAYLIGHT
END:VTIMEZONE
BEGIN:VEVENT
UID:calendar.38371.field_fc_date.0@culturefly.org
DTSTAMP:20260420T101822Z
ATTACH;FMTTYPE=image/png:https://culturefly.org/sites/default/files/event-i
 mage/Magic%20Showcase%20and%20Workshop%20Timeless_0.png
CATEGORIES:Activities,GBCA Events
CREATED:20250804T200846Z
DESCRIPTION:*Embark on an enchanting journey into illusion and storytelling
  with the  renowned magician Vince Wilson in this captivating Magic Showca
 se and  Workshop. *\n\nJoin us for a night where the impossible becomes po
 ssible, featuring a  star-studded lineup of illusionists and mystifiers l
 ike Vince Wilson and many  more.\n\nThis is your once-in-a-lifetime chance
  to witness these masters of magic all  under one roof. Expect the unexpec
 ted, as you never know what surprises await  or who might appear at this 
 spellbinding event!
DTSTART;TZID=America/New_York:20250914T140000
DTEND;TZID=America/New_York:20250914T160000
LAST-MODIFIED:20250805T122507Z
LOCATION:BCAG Catonsville Clubhouse , Suite 200, 10 St. Timothys Lane, C
 atonsville, MD
SUMMARY:Magic Showcase and Workshop
URL;TYPE=URI:https://culturefly.org/calendar/event/38371/magic-showcase-and
 -workshop
X-GBCA-NID:38371
END:VEVENT
END:VCALENDAR
