BEGIN:VCALENDAR
VERSION:2.0
PRODID:-//Date iCal v2.14-dev//NONSGML kigkonsult.se iCalcreator 2.16.6//
METHOD:PUBLISH
X-WR-CALNAME;VALUE=TEXT:Greater Baltimore Cultural Alliance
BEGIN:VTIMEZONE
TZID:America/New_York
BEGIN:STANDARD
DTSTART:20251102T020000
TZOFFSETFROM:-0400
TZOFFSETTO:-0500
TZNAME:EST
END:STANDARD
BEGIN:DAYLIGHT
DTSTART:20260308T020000
TZOFFSETFROM:-0500
TZOFFSETTO:-0400
TZNAME:EDT
END:DAYLIGHT
END:VTIMEZONE
BEGIN:VEVENT
UID:calendar.38335.field_fc_date.0@culturefly.org
DTSTAMP:20260421T151152Z
ATTACH;FMTTYPE=image/jpeg:https://culturefly.org/sites/default/files/event-
 image/pNaSOJwqGEWCyokNS4_Tjw.large_.jpg
CATEGORIES:Performance
CREATED:20250728T010930Z
DESCRIPTION:“Echos of Old”, a one-of-a-kind concert and album release rece
 ption  celebrating the timeless beauty of old English and Irish Celtic fol
 k songs.  This extraordinary afternoon will feature the American premiere 
 of Alexina  Louie’s acclaimed musical setting of Edgar Allan Poe’s “The Ra
 ven”,  performed by renowned tenor, David W. Cook, with his award-winni
 ng ensemble,  The Rivers of Harmony. Celebrating the 180th anniversary of
  the first  printing of Poe's most haunting poem.
DTSTART;TZID=America/New_York:20251005T130000
DTEND;TZID=America/New_York:20251005T153000
LAST-MODIFIED:20250729T121743Z
LOCATION:Westminster Hall and Burying Ground, 515 W Fayette St, Baltimore
 , MD
SUMMARY:'Echos of Old' & 'The Raven' U.S. Premiere, 180th Anniversary Conc
 ert
URL:https://poefestinternational.com/raven-anniversary-concert
X-GBCA-NID:38335
END:VEVENT
END:VCALENDAR
