BEGIN:VCALENDAR
VERSION:2.0
PRODID:-//Date iCal v2.14-dev//NONSGML kigkonsult.se iCalcreator 2.16.6//
METHOD:PUBLISH
X-WR-CALNAME;VALUE=TEXT:Greater Baltimore Cultural Alliance
BEGIN:VTIMEZONE
TZID:America/New_York
BEGIN:STANDARD
DTSTART:20251102T020000
TZOFFSETFROM:-0400
TZOFFSETTO:-0500
TZNAME:EST
END:STANDARD
BEGIN:DAYLIGHT
DTSTART:20260308T020000
TZOFFSETFROM:-0500
TZOFFSETTO:-0400
TZNAME:EDT
END:DAYLIGHT
END:VTIMEZONE
BEGIN:VEVENT
UID:calendar.38334.field_fc_date.0@culturefly.org
DTSTAMP:20260420T150202Z
ATTACH;FMTTYPE=image/jpeg:https://culturefly.org/sites/default/files/event-
 image/VIZk95H3aE-4duFKnP3RVQ.large_.jpg
CATEGORIES:Other
CREATED:20250728T003551Z
DESCRIPTION:Start festival weekend with a pint, a movie, and a toast to T
 he Raven! Join  us for a thrilling movie night and social to celebrate the
  180th anniversary  of Poe’s most famous poem—complete with themed drinks\
 , spooky vibes, and  a room full of fellow Poe fans. Party and film scree
 ning TBA!
DTSTART;TZID=America/New_York:20251003T180000
DTEND;TZID=America/New_York:20251003T210000
GEO:+39.289784;-76.616115
LAST-MODIFIED:20250729T121743Z
LOCATION:Lord Baltimore Hotel, 20 W. Baltimore Street, Baltimore, MD
SUMMARY:Raven Reception, MOVIE NITE & VIP Twilight Tour of Green Mount Cem
 etery
URL:https://poefestinternational.com/movie-night
X-GBCA-NID:38334
END:VEVENT
END:VCALENDAR
