BEGIN:VCALENDAR
VERSION:2.0
PRODID:-//Date iCal v2.14-dev//NONSGML kigkonsult.se iCalcreator 2.16.6//
METHOD:PUBLISH
X-WR-CALNAME;VALUE=TEXT:Greater Baltimore Cultural Alliance
BEGIN:VTIMEZONE
TZID:America/New_York
BEGIN:STANDARD
DTSTART:20251102T020000
TZOFFSETFROM:-0400
TZOFFSETTO:-0500
TZNAME:EST
END:STANDARD
BEGIN:DAYLIGHT
DTSTART:20260308T020000
TZOFFSETFROM:-0500
TZOFFSETTO:-0400
TZNAME:EDT
END:DAYLIGHT
END:VTIMEZONE
BEGIN:VEVENT
UID:calendar.38333.field_fc_date.0@culturefly.org
DTSTAMP:20260420T181236Z
ATTACH;FMTTYPE=image/jpeg:https://culturefly.org/sites/default/files/event-
 image/p1Jyk7W3XEa7HfpLvwsrMQ.large_.jpg
CATEGORIES:Other
CREATED:20250728T001944Z
DESCRIPTION:Poe Baltimore invites you to darken Poe’s chamber door at the 8
 th annual  International Edgar Allan Poe Festival & Awards, taking place 
 October 3–5,  2025. This three-day celebration features Poe-themed perfor
 mances, exhibits,  tours, and special guests, with the free outdoor st
 reet festival taking place  Saturday and Sunday only, October 4 & 5, in 
 the shadow of Poe House on Amity  Street in Baltimore.
DTSTART;TZID=America/New_York:20251003T110000
DTEND;TZID=America/New_York:20251003T170000
GEO:+39.291448;-76.633067
LAST-MODIFIED:20250729T121748Z
LOCATION:Edgar Allan Poe House & Museum, 203 N. Amity Street, Baltimore,
  MD
RRULE:FREQ=DAILY;UNTIL=20251006T075959Z;INTERVAL=1;WKST=SU
SUMMARY:The International Edgar Allan Poe Festival & Awards
URL:http://poefestinternational.org
X-GBCA-NID:38333
END:VEVENT
END:VCALENDAR
