BEGIN:VCALENDAR
VERSION:2.0
PRODID:-//Date iCal v2.14-dev//NONSGML kigkonsult.se iCalcreator 2.16.6//
METHOD:PUBLISH
X-WR-CALNAME;VALUE=TEXT:Greater Baltimore Cultural Alliance
BEGIN:VTIMEZONE
TZID:America/New_York
BEGIN:STANDARD
DTSTART:20251102T020000
TZOFFSETFROM:-0400
TZOFFSETTO:-0500
TZNAME:EST
END:STANDARD
BEGIN:DAYLIGHT
DTSTART:20260308T020000
TZOFFSETFROM:-0500
TZOFFSETTO:-0400
TZNAME:EDT
END:DAYLIGHT
END:VTIMEZONE
BEGIN:VEVENT
UID:calendar.38322.field_fc_date.0@culturefly.org
DTSTAMP:20260421T163942Z
ATTACH;FMTTYPE=image/png:https://culturefly.org/sites/default/files/event-i
 mage/The%20Dinner%20Detective.png
CATEGORIES:Performance
CREATED:20250723T215038Z
DESCRIPTION:America’s LARGEST interactive true crime mystery dinner show is
  now playing  in Towson, MD!\n\nAt The Dinner Detective Murder Mystery Di
 nner Show, you’ll tackle a  challenging crime while you feast on a fantas
 tic dinner. Just beware! The  criminal is lurking somewhere in the room, 
 and you may find yourself as a  Prime Suspect before you know it!\n\nEach 
 admission includes our fantastic dinner, mystery entertainment, wait  st
 aff gratuity, prize package for Top Sleuth, and much more!
DTSTART;TZID=America/New_York:20250913T180000
DTEND;TZID=America/New_York:20250927T210000
EXDATE;TZID=America/New_York:20250920T180000
GEO:+39.409415;-76.602409
LAST-MODIFIED:20250729T121748Z
LOCATION:Sheraton Baltimore North , Dulaney Valley Rd., Towson, MD
RRULE:FREQ=WEEKLY;UNTIL=20250928T075959Z;INTERVAL=1;BYDAY=SA;WKST=SU
SUMMARY:The Dinner Detective Murder Mystery Dinner Show
URL:https://eventvesta.com/events/112223/t/tickets
X-GBCA-NID:38322
END:VEVENT
END:VCALENDAR
