BEGIN:VCALENDAR
VERSION:2.0
PRODID:-//Date iCal v2.14-dev//NONSGML kigkonsult.se iCalcreator 2.16.6//
METHOD:PUBLISH
X-WR-CALNAME;VALUE=TEXT:Greater Baltimore Cultural Alliance
BEGIN:VTIMEZONE
TZID:America/New_York
BEGIN:STANDARD
DTSTART:20251102T020000
TZOFFSETFROM:-0400
TZOFFSETTO:-0500
TZNAME:EST
END:STANDARD
BEGIN:DAYLIGHT
DTSTART:20260308T020000
TZOFFSETFROM:-0500
TZOFFSETTO:-0400
TZNAME:EDT
END:DAYLIGHT
END:VTIMEZONE
BEGIN:VEVENT
UID:calendar.38242.field_fc_date.0@culturefly.org
DTSTAMP:20260420T124447Z
ATTACH;FMTTYPE=image/png:https://culturefly.org/sites/default/files/event-i
 mage/ShortForm_Sept_20-1-ShortForm%20IG%20%281%29.png
CATEGORIES:Performance,Lectures/ Workshops,Activities,Professional Devel
 opment
CREATED:20250705T151316Z
DESCRIPTION:Join Highwire Improv for a short-form improv jam! Come play and
  practice  games like you see on Whose Line Is It Anyway!Expert facilitato
 r Heather  Moyer will lead the group through a bunch of fun short-form gam
 es and we'll  all have a blast together!\n\n/**Recommended for improvisers
  who have completed Fundamentals of Improv  Level 1 (or equivalent trainin
 g).**/\n\n**About the Facilitator:**
DTSTART;TZID=America/New_York:20250920T120000
DTEND;TZID=America/New_York:20250920T140000
GEO:+39.311904;-76.615178
LAST-MODIFIED:20250715T113729Z
LOCATION:St. Mark's Lutheran Church, 1900 St. Paul Street, Baltimore, MD
SUMMARY:Short-Form Improv Jam with Heather Moyer
URL:https://www.highwireimprov.com
X-GBCA-NID:38242
END:VEVENT
END:VCALENDAR
