BEGIN:VCALENDAR
VERSION:2.0
PRODID:-//Date iCal v2.14-dev//NONSGML kigkonsult.se iCalcreator 2.16.6//
METHOD:PUBLISH
X-WR-CALNAME;VALUE=TEXT:Greater Baltimore Cultural Alliance
BEGIN:VTIMEZONE
TZID:America/New_York
BEGIN:STANDARD
DTSTART:20251102T020000
TZOFFSETFROM:-0400
TZOFFSETTO:-0500
TZNAME:EST
END:STANDARD
BEGIN:DAYLIGHT
DTSTART:20260308T020000
TZOFFSETFROM:-0500
TZOFFSETTO:-0400
TZNAME:EDT
END:DAYLIGHT
END:VTIMEZONE
BEGIN:VEVENT
UID:calendar.38183.field_fc_date.0@culturefly.org
DTSTAMP:20260421T132813Z
ATTACH;FMTTYPE=image/jpeg:https://culturefly.org/sites/default/files/event-
 image/MDVLA%20Party%20for%20the%20Arts%20photo.JPG
CATEGORIES:Exhibition,Performance,Activities,Nightlife
CREATED:20250623T164415Z
DESCRIPTION:On October 16th, Maryland Volunteer Lawyers for the Arts is ce
 lebrating our  40th birthday with a book launch and party that is all abou
 t the artists,  volunteers, and partners that make us who we are today! 
 Come for great vibes  from Sounds by Seven with refreshing food and drink 
 selections from local  vendors. Leave with community connections, the com
 memorative book, and a  renewed understanding of the intersection between
  art and law.
DTSTART;TZID=America/New_York:20251016T190000
DTEND;TZID=America/New_York:20251016T210000
GEO:+39.320451;-76.616003
LAST-MODIFIED:20250624T124212Z
LOCATION:2640 Space, 2640 St. Paul Street, Baltimore, MD
SUMMARY:MDVLA: 40th Birthday Party for the Arts
URL:https://mailchi.mp/mdvla/40th-birthday-p4ta
X-GBCA-NID:38183
END:VEVENT
END:VCALENDAR
