BEGIN:VCALENDAR
VERSION:2.0
PRODID:-//Date iCal v2.14-dev//NONSGML kigkonsult.se iCalcreator 2.16.6//
METHOD:PUBLISH
X-WR-CALNAME;VALUE=TEXT:Greater Baltimore Cultural Alliance
BEGIN:VTIMEZONE
TZID:America/New_York
BEGIN:STANDARD
DTSTART:20251102T020000
TZOFFSETFROM:-0400
TZOFFSETTO:-0500
TZNAME:EST
END:STANDARD
BEGIN:DAYLIGHT
DTSTART:20260308T020000
TZOFFSETFROM:-0500
TZOFFSETTO:-0400
TZNAME:EDT
END:DAYLIGHT
END:VTIMEZONE
BEGIN:VEVENT
UID:calendar.38138.field_fc_date.0@culturefly.org
DTSTAMP:20260420T084919Z
ATTACH;FMTTYPE=image/png:https://culturefly.org/sites/default/files/event-i
 mage/Silent%20Book%20Club%20%285%29.png
CATEGORIES:Activities
CREATED:20250612T022532Z
DESCRIPTION:If you enjoy reading, you'll want to join the Baltimore Silent
  Book Club!  Unlike with other book clubs, there's no assigned reading-- 
 you can bring any  book you like with you! You can also bring e-readers, 
 audiobooks, etc.\n\nBring a book, grab a bite/food and enjoy reading you
 r book in the company of  fellow book lovers!\n\nThe event kicks off at 6:
 30 p.m. with introductions and eating/drinking. The  silent reading hour w
 ill run 7:30-8:30 p.m. Afterward, feel free to stick  around for mingling
  or more reading.
DTSTART;TZID=America/New_York:20250612T183000
DTEND;TZID=America/New_York:20250612T203000
LAST-MODIFIED:20250617T125957Z
LOCATION:Old Major, 900 South Carey Street, Baltimore, MD
RDATE;VALUE=PERIOD;TZID=America/New_York:20250628T183000/20250628T203000
RRULE:FREQ=WEEKLY;COUNT=10;INTERVAL=2;BYDAY=TH;WKST=SU
SUMMARY:Baltimore Silent Book Club
URL:www.oldmajorbaltimore.com
X-GBCA-NID:38138
END:VEVENT
END:VCALENDAR
