BEGIN:VCALENDAR
VERSION:2.0
PRODID:-//Date iCal v2.14-dev//NONSGML kigkonsult.se iCalcreator 2.16.6//
METHOD:PUBLISH
X-WR-CALNAME;VALUE=TEXT:Greater Baltimore Cultural Alliance
BEGIN:VTIMEZONE
TZID:America/New_York
BEGIN:STANDARD
DTSTART:20251102T020000
TZOFFSETFROM:-0400
TZOFFSETTO:-0500
TZNAME:EST
END:STANDARD
BEGIN:DAYLIGHT
DTSTART:20260308T020000
TZOFFSETFROM:-0500
TZOFFSETTO:-0400
TZNAME:EDT
END:DAYLIGHT
END:VTIMEZONE
BEGIN:VEVENT
UID:calendar.38036.field_fc_date.0@culturefly.org
DTSTAMP:20260421T120005Z
ATTACH;FMTTYPE=image/jpeg:https://culturefly.org/sites/default/files/event-
 image/Groove-Man%20logo_5-4.jpg
CATEGORIES:Exhibition,Performance,Activities,History & Heritage,Outdoor
 s
CREATED:20250528T153303Z
DESCRIPTION:9th Annual Love Groove Festival Returns this Fall at NEW Locati
 on
DTSTART;TZID=America/New_York:20250913T120000
DTEND;TZID=America/New_York:20250913T200000
LAST-MODIFIED:20250605T153822Z
LOCATION:LoveGrove Festival, 1401 Whitelock Street, Baltimore, MD
SUMMARY:9th Annual Love Groove Festival
URL:https://lovegroovefestival.com/
X-GBCA-NID:38036
END:VEVENT
END:VCALENDAR
