BEGIN:VCALENDAR
VERSION:2.0
PRODID:-//Date iCal v2.14-dev//NONSGML kigkonsult.se iCalcreator 2.16.6//
METHOD:PUBLISH
X-WR-CALNAME;VALUE=TEXT:Greater Baltimore Cultural Alliance
BEGIN:VTIMEZONE
TZID:America/New_York
BEGIN:STANDARD
DTSTART:20251102T020000
TZOFFSETFROM:-0400
TZOFFSETTO:-0500
TZNAME:EST
END:STANDARD
BEGIN:DAYLIGHT
DTSTART:20260308T020000
TZOFFSETFROM:-0500
TZOFFSETTO:-0400
TZNAME:EDT
END:DAYLIGHT
END:VTIMEZONE
BEGIN:VEVENT
UID:calendar.37980.field_fc_date.0@culturefly.org
DTSTAMP:20260420T084816Z
ATTACH;FMTTYPE=image/jpeg:https://culturefly.org/sites/default/files/event-
 image/105950.jpg
CATEGORIES:Exhibition,Lectures/ Workshops
CREATED:20250516T172112Z
DESCRIPTION:Saturday nights from July through August the museum will extend
  its hours to  8pm. From 5pm-8pm admission will be $15!\n\nLearn more abou
 t programming and special events at www.PortDiscovery.org.   [1]\n\nParkin
 g Address:- 55 Market Place Baltimore, MD 21202\n\n\n[1] http://www.PortD
 iscovery.org. 
DTSTART;TZID=America/New_York:20250705T170000
DTEND;TZID=America/New_York:20250830T200000
GEO:+39.288934;-76.606288
LAST-MODIFIED:20250520T140724Z
LOCATION:Port Discovery Children's Museum, 35 Market Place, Baltimore, M
 D
RRULE:FREQ=WEEKLY;UNTIL=20250831T075959Z;INTERVAL=1;BYDAY=SA;WKST=SU
SUMMARY:$15 Saturday Fun Nights
URL:https://eventvesta.com/events/105950/t/tickets
X-GBCA-NID:37980
END:VEVENT
END:VCALENDAR
