BEGIN:VCALENDAR
VERSION:2.0
PRODID:-//Date iCal v2.14-dev//NONSGML kigkonsult.se iCalcreator 2.16.6//
METHOD:PUBLISH
X-WR-CALNAME;VALUE=TEXT:Greater Baltimore Cultural Alliance
BEGIN:VTIMEZONE
TZID:America/New_York
BEGIN:STANDARD
DTSTART:20251102T020000
TZOFFSETFROM:-0400
TZOFFSETTO:-0500
TZNAME:EST
END:STANDARD
BEGIN:DAYLIGHT
DTSTART:20260308T020000
TZOFFSETFROM:-0500
TZOFFSETTO:-0400
TZNAME:EDT
END:DAYLIGHT
END:VTIMEZONE
BEGIN:VEVENT
UID:calendar.37902.field_fc_date.0@culturefly.org
DTSTAMP:20260421T102035Z
ATTACH;FMTTYPE=image/png:https://culturefly.org/sites/default/files/event-i
 mage/Aner%20May-June%202025-2-Instagram%201.png
CATEGORIES:Performance,Lectures/ Workshops,Activities,Professional Devel
 opment
CREATED:20250504T165444Z
DESCRIPTION:About This Series:\n\nIntended for experienced and freshly bake
 d improvisers alike, this 4-part  series is geared towards helping you fi
 nd ease and comfort in improv.\n\nWe will experiment with different elemen
 ts that can naturally help us inhabit  and discover scenes from the ground
  up. In this series we will lay aside  rules and formulas (CROW, Story Sp
 ines, Harolds and forms and the like).
DTSTART;TZID=America/New_York:20250510T120000
DTEND;TZID=America/New_York:20250510T140000
GEO:+39.311904;-76.615178
LAST-MODIFIED:20250506T120259Z
LOCATION:St. Mark's Lutheran Church, 1900 St. Paul Street, Baltimore, MD
SUMMARY:Truth in Imporv: Workshop on Space, Action, and Physicality
URL:https://www.highwireimprov.com
X-GBCA-NID:37902
END:VEVENT
END:VCALENDAR
