BEGIN:VCALENDAR
VERSION:2.0
PRODID:-//Date iCal v2.14-dev//NONSGML kigkonsult.se iCalcreator 2.16.6//
METHOD:PUBLISH
X-WR-CALNAME;VALUE=TEXT:Greater Baltimore Cultural Alliance
BEGIN:VTIMEZONE
TZID:America/New_York
BEGIN:STANDARD
DTSTART:20251102T020000
TZOFFSETFROM:-0400
TZOFFSETTO:-0500
TZNAME:EST
END:STANDARD
BEGIN:DAYLIGHT
DTSTART:20260308T020000
TZOFFSETFROM:-0500
TZOFFSETTO:-0400
TZNAME:EDT
END:DAYLIGHT
END:VTIMEZONE
BEGIN:VEVENT
UID:calendar.37853.field_fc_date.0@culturefly.org
DTSTAMP:20260419T125931Z
ATTACH;FMTTYPE=image/png:https://culturefly.org/sites/default/files/event-i
 mage/SL25%20Holi%20Run.png
CATEGORIES:Activities,Outdoors
CREATED:20250426T221520Z
DESCRIPTION:Kick off the celebration of Holi, the Festival of Colors, wit
 h an untimed fun  run or walk through clouds of bright powder that ensure 
 you walk away a  visible representation of our beautiful community, sprin
 g, and joy!\n\nBegin the celebration of Holi with a 1-mile run or walk ar
 ound Merriweather  Park at Symphony Woods and through clouds of colorful p
 owders!\n\nHoli is a spring festival during which participants celebrate b
 y throwing  colored powder at each other while they dance and celebrate.
DTSTART;TZID=America/New_York:20250601T103000
DTEND;TZID=America/New_York:20250601T110000
LAST-MODIFIED:20250429T093619Z
LOCATION:Merriweather Park at Symphony Woods Park, 10475 Little Patuxent P
 arkway, Columbia, MD
SUMMARY:Holi Color Run/Walk
URL:https://2025HoliRun.eventbrite.com
X-GBCA-NID:37853
END:VEVENT
END:VCALENDAR
