BEGIN:VCALENDAR
VERSION:2.0
PRODID:-//Date iCal v2.14-dev//NONSGML kigkonsult.se iCalcreator 2.16.6//
METHOD:PUBLISH
X-WR-CALNAME;VALUE=TEXT:Greater Baltimore Cultural Alliance
BEGIN:VTIMEZONE
TZID:America/New_York
BEGIN:STANDARD
DTSTART:20251102T020000
TZOFFSETFROM:-0400
TZOFFSETTO:-0500
TZNAME:EST
END:STANDARD
BEGIN:DAYLIGHT
DTSTART:20260308T020000
TZOFFSETFROM:-0500
TZOFFSETTO:-0400
TZNAME:EDT
END:DAYLIGHT
END:VTIMEZONE
BEGIN:VEVENT
UID:calendar.37811.field_fc_date.0@culturefly.org
DTSTAMP:20260421T120019Z
ATTACH;FMTTYPE=image/jpeg:https://culturefly.org/sites/default/files/event-
 image/FB_IMG_1744898271733.jpg
CATEGORIES:Outdoors,Other
CREATED:20250417T141814Z
DESCRIPTION:6th Annual Spring Artisan Market by Parkton Artisan Festival\n
 \nSunday, May 4, 2025\n\n10-4pm\n\n18819-18821 Frederick Road, Parkton\
 , MD 21120
DTSTART;TZID=America/New_York:20250504T100000
DTEND;TZID=America/New_York:20250504T160000
LAST-MODIFIED:20250422T163353Z
LOCATION:Elizabeth Jacob's Salon, 18819 Frederick Rd, Parkton, MD
SUMMARY:Parkton Artisan Festival - Spring Market
URL:https://www.facebook.com/share/155GkMMvDK/
X-GBCA-NID:37811
END:VEVENT
END:VCALENDAR
