BEGIN:VCALENDAR
VERSION:2.0
PRODID:-//Date iCal v2.14-dev//NONSGML kigkonsult.se iCalcreator 2.16.6//
METHOD:PUBLISH
X-WR-CALNAME;VALUE=TEXT:Greater Baltimore Cultural Alliance
BEGIN:VTIMEZONE
TZID:America/New_York
BEGIN:STANDARD
DTSTART:20251102T020000
TZOFFSETFROM:-0400
TZOFFSETTO:-0500
TZNAME:EST
END:STANDARD
BEGIN:DAYLIGHT
DTSTART:20260308T020000
TZOFFSETFROM:-0500
TZOFFSETTO:-0400
TZNAME:EDT
END:DAYLIGHT
END:VTIMEZONE
BEGIN:VEVENT
UID:calendar.37803.field_fc_date.0@culturefly.org
DTSTAMP:20260420T164029Z
ATTACH;FMTTYPE=image/png:https://culturefly.org/sites/default/files/event-i
 mage/Mandala%20art%20class%20%282%29.png
CATEGORIES:Activities,GBCA Events
CREATED:20250416T195312Z
DESCRIPTION:Join Eternally Lola for a transformative mandala art class that
  combines  creativity, mindfulness, and a touch of sparkle at the Catons
 ville Clubhouse!  Led by visual artist and jewelry maker Lola, this class
  invites participants  to design and create their own radiant mandala on a
  12-inch round wooden  board that they will proudly take home. This immers
 ive workshop introduces  the basics of mandala art through a mixed-media a
 pproach.
DTSTART;TZID=America/New_York:20250425T190000
DTEND;TZID=America/New_York:20250425T210000
LAST-MODIFIED:20250422T163353Z
LOCATION:BCAG Catonsville Clubhouse , Suite 200, 10 St. Timothys Lane, C
 atonsville, MD
SUMMARY:Mandala Art Class by Eternally Lola
URL:https://www.bcartsguild.org/event-details/mandala-art-class-by-eternall
 y-lola
X-GBCA-NID:37803
END:VEVENT
END:VCALENDAR
