BEGIN:VCALENDAR
VERSION:2.0
PRODID:-//Date iCal v2.14-dev//NONSGML kigkonsult.se iCalcreator 2.16.6//
METHOD:PUBLISH
X-WR-CALNAME;VALUE=TEXT:Greater Baltimore Cultural Alliance
BEGIN:VTIMEZONE
TZID:America/New_York
BEGIN:STANDARD
DTSTART:20251102T020000
TZOFFSETFROM:-0400
TZOFFSETTO:-0500
TZNAME:EST
END:STANDARD
BEGIN:DAYLIGHT
DTSTART:20260308T020000
TZOFFSETFROM:-0500
TZOFFSETTO:-0400
TZNAME:EDT
END:DAYLIGHT
END:VTIMEZONE
BEGIN:VEVENT
UID:calendar.37781.field_fc_date.0@culturefly.org
DTSTAMP:20260421T132929Z
ATTACH;FMTTYPE=image/png:https://culturefly.org/sites/default/files/event-i
 mage/%28no%20MSAC%29%20Embrace%20Spontaniety-2-Instagram_3.png
CATEGORIES:Performance,Lectures/ Workshops,Activities,Nightlife,Profess
 ional Development
CREATED:20250415T003559Z
DESCRIPTION:Join our 2-hour in-person workshop, 'Embrace Spontaneity: Intr
 o to Improv.'  It's a low-pressure, fun experience designed for newcomers
 . Connect with  others through introductions, establish boundaries, and 
 engage in energizing  warmups, games, and collaborative scenes.\n\nGet r
 eady to embark on a low-pressure, fun-filled adventure that will unleash 
  your creativity, boost your confidence, and ignite your sense of playfu
 lness.
DTSTART;TZID=America/New_York:20250501T190000
DTEND;TZID=America/New_York:20250501T210000
LAST-MODIFIED:20250415T121850Z
LOCATION:Riverside Third Space, 1530 Battery Avenue, Baltimore, MD
SUMMARY:Embrace Spontaneity: an Intro to Improv
URL:https://www.eventbrite.com/e/embrace-spontaneity-an-intro-to-improv-tic
 kets-1319569922159
X-GBCA-NID:37781
END:VEVENT
END:VCALENDAR
