BEGIN:VCALENDAR
VERSION:2.0
PRODID:-//Date iCal v2.14-dev//NONSGML kigkonsult.se iCalcreator 2.16.6//
METHOD:PUBLISH
X-WR-CALNAME;VALUE=TEXT:Greater Baltimore Cultural Alliance
BEGIN:VTIMEZONE
TZID:America/New_York
BEGIN:STANDARD
DTSTART:20251102T020000
TZOFFSETFROM:-0400
TZOFFSETTO:-0500
TZNAME:EST
END:STANDARD
BEGIN:DAYLIGHT
DTSTART:20260308T020000
TZOFFSETFROM:-0500
TZOFFSETTO:-0400
TZNAME:EDT
END:DAYLIGHT
END:VTIMEZONE
BEGIN:VEVENT
UID:calendar.37738.field_fc_date.0@culturefly.org
DTSTAMP:20260421T153205Z
ATTACH;FMTTYPE=image/jpeg:https://culturefly.org/sites/default/files/event-
 image/489863268_10101637434795069_6742201910567793142_n.jpg
CATEGORIES:Performance,Lectures/ Workshops,Activities
CREATED:20250410T190059Z
DESCRIPTION:*Improvise a Musical! The next class with Baltimore Improv Grou
 p starts  Thursday May 1 at The BIG Theater. That’s just 3 weeks away. If 
 you’ve  been thinking about trying musical improv, this is your season.*
 \n\n​You’ll build songs and scenes from scratch, with classmates who are 
 just  as new (and nervous!) as you. It’s a 4-week class plus a final showc
 ase  where you perform a completely improvised musical: villains, heroes\
 , group  numbers and all!
DTSTART;TZID=America/New_York:20250501T183000
DTEND;TZID=America/New_York:20250501T213000
LAST-MODIFIED:20250411T112718Z
LOCATION:Baltimore Improv Group (BIG), 1727 North Charles Street Baltimore
 , MD 21201, Baltimore, MD
SUMMARY:CLASS: Improvise a musical: Intro to Musical Improv with Baltimore 
 Improv  Group
URL:baltimoremusicalimprov.com/may
X-GBCA-NID:37738
END:VEVENT
END:VCALENDAR
