BEGIN:VCALENDAR
VERSION:2.0
PRODID:-//Date iCal v2.14-dev//NONSGML kigkonsult.se iCalcreator 2.16.6//
METHOD:PUBLISH
X-WR-CALNAME;VALUE=TEXT:Greater Baltimore Cultural Alliance
BEGIN:VTIMEZONE
TZID:America/New_York
BEGIN:STANDARD
DTSTART:20251102T020000
TZOFFSETFROM:-0400
TZOFFSETTO:-0500
TZNAME:EST
END:STANDARD
BEGIN:DAYLIGHT
DTSTART:20260308T020000
TZOFFSETFROM:-0500
TZOFFSETTO:-0400
TZNAME:EDT
END:DAYLIGHT
END:VTIMEZONE
BEGIN:VEVENT
UID:calendar.37727.field_fc_date.0@culturefly.org
DTSTAMP:20260420T115747Z
ATTACH;FMTTYPE=image/png:https://culturefly.org/sites/default/files/event-i
 mage/Song%20Circle.png
CATEGORIES:Performance,Activities,GBCA Events
CREATED:20250409T184515Z
DESCRIPTION:Join us every Wednesday of December for singing and fun at the 
 Catonsville  Clubhouse.\n\nA song circle is a friendly jam session on acou
 stic instruments only. Hand  drums are okay. Songs can include originals o
 r favorite covers. We'll take  turns around the circle. If it's your turn\
 , you can do your song solo or you  may request accompaniment. You may inv
 ite the whole group to join in, or you  may invite specific individuals (
 you may have worked out an arrangement). The  important thing is that you 
 choose how to put your music across.
DTSTART;TZID=America/New_York:20250416T180000
DTEND;TZID=America/New_York:20250416T220000
LAST-MODIFIED:20250411T112718Z
LOCATION:BCAG Catonsville Clubhouse , Suite 200, 10 St. Timothys Lane, C
 atonsville, MD
SUMMARY:Song Circle at the Clubhouse (April)
URL:https://www.bcartsguild.org/event-details/song-circle-at-the-clubhouse-
 april-2025-04-16-18-00
X-GBCA-NID:37727
END:VEVENT
END:VCALENDAR
