BEGIN:VCALENDAR
VERSION:2.0
PRODID:-//Date iCal v2.14-dev//NONSGML kigkonsult.se iCalcreator 2.16.6//
METHOD:PUBLISH
X-WR-CALNAME;VALUE=TEXT:Greater Baltimore Cultural Alliance
BEGIN:VTIMEZONE
TZID:America/New_York
BEGIN:STANDARD
DTSTART:20251102T020000
TZOFFSETFROM:-0400
TZOFFSETTO:-0500
TZNAME:EST
END:STANDARD
BEGIN:DAYLIGHT
DTSTART:20260308T020000
TZOFFSETFROM:-0500
TZOFFSETTO:-0400
TZNAME:EDT
END:DAYLIGHT
END:VTIMEZONE
BEGIN:VEVENT
UID:calendar.37725.field_fc_date.0@culturefly.org
DTSTAMP:20260420T090443Z
ATTACH;FMTTYPE=image/png:https://culturefly.org/sites/default/files/event-i
 mage/2nd%20Annual%20Cultural%20Innovator%20Award-2.png
CATEGORIES:Other,GBCA Events
CREATED:20250409T174807Z
DESCRIPTION:Join the Greater Baltimore Cultural Alliance at The Peale for t
 he 2nd Annual  Cultural Innovator Award, honoring Carla Du Pree, Executi
 ve Director of  CityLit Project. Celebrate a leader whose work uplifts Bla
 ck writers and  transforms Baltimore’s literary landscape.\n\nThe event wi
 ll take place at\n\nThe Peale Museum\n\n225 Holiday St\n\nBaltimore, MD 2
 1202\n\nThis event is free and open to the public. RSVP encouraged: Click 
 here to  RSVP [1]\n\n\n[1] https://docs.google.com/forms/d/e/1FAIpQLSfqKk8
 pirhDbVOsoIqrCmOLqsDloQaFrsn--zTgnVZqpSh7yg/viewform?usp=header
DTSTART;TZID=America/New_York:20250416T170000
DTEND;TZID=America/New_York:20250416T190000
GEO:+39.290869;-76.610639
LAST-MODIFIED:20250409T174859Z
LOCATION:The Peale Museum, 225 North Holliday Street, Baltimore, MD
SUMMARY:2nd Annual GBCA Cultural Innovator Award: Honoring Carla Du Pree
URL:https://docs.google.com/forms/d/e/1FAIpQLSfqKk8pirhDbVOsoIqrCmOLqsDloQa
 Frsn--zTgnVZqpSh7yg/viewform?usp=header
X-GBCA-NID:37725
END:VEVENT
END:VCALENDAR
