BEGIN:VCALENDAR
VERSION:2.0
PRODID:-//Date iCal v2.14-dev//NONSGML kigkonsult.se iCalcreator 2.16.6//
METHOD:PUBLISH
X-WR-CALNAME;VALUE=TEXT:Greater Baltimore Cultural Alliance
BEGIN:VTIMEZONE
TZID:America/New_York
BEGIN:STANDARD
DTSTART:20251102T020000
TZOFFSETFROM:-0400
TZOFFSETTO:-0500
TZNAME:EST
END:STANDARD
BEGIN:DAYLIGHT
DTSTART:20260308T020000
TZOFFSETFROM:-0500
TZOFFSETTO:-0400
TZNAME:EDT
END:DAYLIGHT
END:VTIMEZONE
BEGIN:VEVENT
UID:calendar.37712.field_fc_date.0@culturefly.org
DTSTAMP:20260422T021738Z
ATTACH;FMTTYPE=image/png:https://culturefly.org/sites/default/files/event-i
 mage/Posters%20%26%20Poetics%20Flyer%20%281%29-1.png
CATEGORIES:Baker Artist,Performance,Lectures/ Workshops,Activities
CREATED:20250408T205358Z
DESCRIPTION:This interactive workshop, facilitated by Baltimore native Uni
 que Robinson  (Poet & Director of MICA's MFA Community Arts Program), is 
 for writers and  artists of all skill levels interested in the written wor
 d, and/or the  pairing of text with image! All attendees will craft their
  own original  poems, guided by the theme of “poetic self portraits”. Uni
 que will  provide writing prompts to choose from, followed by collage pos
 ter making,  which will include excerpts, symbols, or themes from their
  writings. All  materials for poster making will be provided.
DTSTART;TZID=America/New_York:20250419T130000
DTEND;TZID=America/New_York:20250419T160000
GEO:+39.280307;-76.606712
LAST-MODIFIED:20250411T112722Z
LOCATION:American Visionary Art Museum, 800 Key Highway, Baltimore, MD
SUMMARY:Posters & Poetics Cypher: A National Poetry Month Celebration at AV
 AM
URL:https://www.avam.org/event-details/posters-and-poetics-cypher-a-nationa
 l-poetry-month-celebration
X-GBCA-NID:37712
END:VEVENT
END:VCALENDAR
