BEGIN:VCALENDAR
VERSION:2.0
PRODID:-//Date iCal v2.14-dev//NONSGML kigkonsult.se iCalcreator 2.16.6//
METHOD:PUBLISH
X-WR-CALNAME;VALUE=TEXT:Greater Baltimore Cultural Alliance
BEGIN:VTIMEZONE
TZID:America/New_York
BEGIN:STANDARD
DTSTART:20251102T020000
TZOFFSETFROM:-0400
TZOFFSETTO:-0500
TZNAME:EST
END:STANDARD
BEGIN:DAYLIGHT
DTSTART:20260308T020000
TZOFFSETFROM:-0500
TZOFFSETTO:-0400
TZNAME:EDT
END:DAYLIGHT
END:VTIMEZONE
BEGIN:VEVENT
UID:calendar.37711.field_fc_date.0@culturefly.org
DTSTAMP:20260421T200920Z
ATTACH;FMTTYPE=image/png:https://culturefly.org/sites/default/files/event-i
 mage/BJA%20Conference%20Flyer%20%20cropped.png
CATEGORIES:Performance,Lectures/ Workshops
CREATED:20250408T142234Z
DESCRIPTION:Baltiimore Jazz Alliance's fourth annual JAZZ CONFERENCE - a fr
 ee event open  to all jazz-lovers and jazz musicians. Workshops and panel 
 discussions start  at 10:35 and cover a range of jazz-related topics. The 
 event includes lunch  for all participants. The keynote speaker at 3:30 wi
 ll be well-known  saxophonist Paul Carr. At 4:45, there will be a concert
  by the Thomas  Schinabeck Quartet, a group of remarkable young musicians
  from Peabody  Institute. The full schedule is found on the webpage, Balt
 imore Jazz  Alliance Jazz Conference 2025. Although the event is free, re
 gistration is  encouraged.
DTSTART;TZID=America/New_York:20250426T103000
DTEND;TZID=America/New_York:20250426T173000
LAST-MODIFIED:20250422T163353Z
LOCATION:St. Matthews New Life United Methodist Church, 416 E. 23rd St., 
 Baltimore, MD
SUMMARY:Baltimore Jazz Alliance Jazz Conference
URL:https://www.baltimorejazz.com/baltimore-jazz-conference-2025/
X-GBCA-NID:37711
END:VEVENT
END:VCALENDAR
