BEGIN:VCALENDAR
VERSION:2.0
PRODID:-//Date iCal v2.14-dev//NONSGML kigkonsult.se iCalcreator 2.16.6//
METHOD:PUBLISH
X-WR-CALNAME;VALUE=TEXT:Greater Baltimore Cultural Alliance
BEGIN:VTIMEZONE
TZID:America/New_York
BEGIN:STANDARD
DTSTART:20251102T020000
TZOFFSETFROM:-0400
TZOFFSETTO:-0500
TZNAME:EST
END:STANDARD
BEGIN:DAYLIGHT
DTSTART:20260308T020000
TZOFFSETFROM:-0500
TZOFFSETTO:-0400
TZNAME:EDT
END:DAYLIGHT
END:VTIMEZONE
BEGIN:VEVENT
UID:calendar.37653.field_fc_date.0@culturefly.org
DTSTAMP:20260420T115557Z
ATTACH;FMTTYPE=image/jpeg:https://culturefly.org/sites/default/files/event-
 image/TLE-vector-layers.jpg
CATEGORIES:Exhibition
CREATED:20250326T205333Z
DESCRIPTION:To celebrate TLE’s 15th anniversary, we are delighted to annou
 nce The Light  Ekphrastic: Creative Spark, an exhibit at the Howard Count
 y Arts Council,  featuring a small selection of participating writers and
  artists from our  first 60 issues, including our special “Exquisite Fant
 astic” project. We  hope you’ll join us for the opening reception and help
  us celebrate the  creative spark that connects us all!\n\nShow Info\n\nAp
 ril 11 – May 25, 2025 Reception April 25, 6-8 p.m. Howard County Center 
 for the Arts: Gallery II I Directions
DTSTART;TZID=America/New_York:20250411T100000
DTEND;TZID=America/New_York:20250411T200000
GEO:+39.292221;-76.806449
LAST-MODIFIED:20250328T165622Z
LOCATION:Howard County Arts Council, 8510 High Ridge Road, Ellicott City\
 , MD
RRULE:FREQ=DAILY;UNTIL=20250526T075959Z;INTERVAL=1;WKST=SU
SUMMARY:The Light Ekphrastic: Creative Spark
URL:https://thelightekphrastic.com/15th-anniversary/
X-GBCA-NID:37653
END:VEVENT
END:VCALENDAR
