BEGIN:VCALENDAR
VERSION:2.0
PRODID:-//Date iCal v2.14-dev//NONSGML kigkonsult.se iCalcreator 2.16.6//
METHOD:PUBLISH
X-WR-CALNAME;VALUE=TEXT:Greater Baltimore Cultural Alliance
BEGIN:VTIMEZONE
TZID:America/New_York
BEGIN:STANDARD
DTSTART:20251102T020000
TZOFFSETFROM:-0400
TZOFFSETTO:-0500
TZNAME:EST
END:STANDARD
BEGIN:DAYLIGHT
DTSTART:20250309T020000
TZOFFSETFROM:-0500
TZOFFSETTO:-0400
RDATE:20260308T020000
TZNAME:EDT
END:DAYLIGHT
END:VTIMEZONE
BEGIN:VEVENT
UID:calendar.37647.field_fc_date.0@culturefly.org
DTSTAMP:20260420T163917Z
ATTACH;FMTTYPE=image/jpeg:https://culturefly.org/sites/default/files/u138/1
 946.112.2386.jpg
CATEGORIES:Exhibition
CREATED:20250325T191839Z
DESCRIPTION:Art is, at its core, grounded in the extraction of nature. Ar
 tworks are made  of and made through the transformation of earth, air, l
 ight, animals, and  plants. This focus exhibition foregrounds the natura
 l-ness of all artworks  and tells a history of artmaking’s relationship to
  the natural world from  historic sustainability to exploitative practice 
 and sustainable futures.
DTSTART;TZID=America/New_York:20250406T100000
DTEND;TZID=America/New_York:20250406T170000
EXDATE;TZID=America/New_York:20250325T100000
EXDATE;TZID=America/New_York:20250704T100000
GEO:+39.325755;-76.61944
LAST-MODIFIED:20251204T081256Z
LOCATION:Baltimore Museum of Art, 10 Art Museum Drive, Baltimore, MD
RRULE:FREQ=WEEKLY;UNTIL=20250818T075959Z;INTERVAL=1;BYDAY=SU,WE,TH,FR,SA;WK
 ST=SU
SUMMARY:Earth as Medium: Extracting Art from Nature
URL:https://artbma.org/exhibition/earth-as-medium-extracting-art-from-natur
 e/
X-GBCA-NID:37647
END:VEVENT
END:VCALENDAR
