BEGIN:VCALENDAR
VERSION:2.0
PRODID:-//Date iCal v2.14-dev//NONSGML kigkonsult.se iCalcreator 2.16.6//
METHOD:PUBLISH
X-WR-CALNAME;VALUE=TEXT:Greater Baltimore Cultural Alliance
BEGIN:VTIMEZONE
TZID:America/New_York
BEGIN:STANDARD
DTSTART:20251102T020000
TZOFFSETFROM:-0400
TZOFFSETTO:-0500
TZNAME:EST
END:STANDARD
BEGIN:DAYLIGHT
DTSTART:20260308T020000
TZOFFSETFROM:-0500
TZOFFSETTO:-0400
TZNAME:EDT
END:DAYLIGHT
END:VTIMEZONE
BEGIN:VEVENT
UID:calendar.37631.field_fc_date.0@culturefly.org
DTSTAMP:20260421T151212Z
ATTACH;FMTTYPE=image/png:https://culturefly.org/sites/default/files/event-i
 mage/Worlds%20of%20the%20Unknown%20IG.png
CATEGORIES:Exhibition,Performance,Activities,Nightlife
CREATED:20250323T183013Z
DESCRIPTION:The late-night laughs come to the Lou Costello Room with three 
 incredible  acts ready to transport you to the planetary system LAUGHTER!
 \n\nFirst up, Lord Baltimort follows one character to the next in a never
 -ending  string of surprises!\n\nNext, Carbon Copy takes inspiration from
  the world of film, but their scenes  and jokes are quite clearly in thre
 e dimensions!\n\nFinally, Local Spot compresses the space dimension and t
 akes you along a  journey through time - one hilarious scene taking place 
 in one place in real  time!
DTSTART;TZID=America/New_York:20250426T210000
DTEND;TZID=America/New_York:20250426T223000
GEO:+39.330873;-76.633433
LAST-MODIFIED:20250324T170535Z
LOCATION:Zissimos Bar, 1023 W 36th St, Baltimore, MD
SUMMARY:Worlds of the Unknown: Late Night Comedy
URL:https://www.highwireimprov.com
X-GBCA-NID:37631
END:VEVENT
END:VCALENDAR
