BEGIN:VCALENDAR
VERSION:2.0
PRODID:-//Date iCal v2.14-dev//NONSGML kigkonsult.se iCalcreator 2.16.6//
METHOD:PUBLISH
X-WR-CALNAME;VALUE=TEXT:Greater Baltimore Cultural Alliance
BEGIN:VTIMEZONE
TZID:America/New_York
BEGIN:STANDARD
DTSTART:20251102T020000
TZOFFSETFROM:-0400
TZOFFSETTO:-0500
TZNAME:EST
END:STANDARD
BEGIN:DAYLIGHT
DTSTART:20250309T020000
TZOFFSETFROM:-0500
TZOFFSETTO:-0400
RDATE:20260308T020000
TZNAME:EDT
END:DAYLIGHT
END:VTIMEZONE
BEGIN:VEVENT
UID:calendar.37614.field_fc_date.0@culturefly.org
DTSTAMP:20260421T165753Z
ATTACH;FMTTYPE=image/jpeg:https://culturefly.org/sites/default/files/event-
 image/100188.jpg
CATEGORIES:Exhibition,Lectures/ Workshops,Activities
CREATED:20250319T191703Z
DESCRIPTION:Earn your Scout badges through exciting new programs exclusivel
 y made for  Girl Scouts & Cub Scouts at Port Discovery Children’s Museum! 
 Book now to  receive private museum free play that includes three floors o
 f hands-on  exhibits and unique programming and activities designed just f
 or scouts!
DTSTART;TZID=America/New_York:20250329T170000
DTEND;TZID=America/New_York:20250330T083000
GEO:+39.288934;-76.606288
LAST-MODIFIED:20250324T170540Z
LOCATION:Port Discovery Children's Museum, 35 Market Place, Baltimore, M
 D
SUMMARY:Overnight Adventures at Port Discovery | Silly Slime Co.
URL:https://eventvesta.com/events/100188/t/tickets
X-GBCA-NID:37614
END:VEVENT
END:VCALENDAR
