BEGIN:VCALENDAR
VERSION:2.0
PRODID:-//Date iCal v2.14-dev//NONSGML kigkonsult.se iCalcreator 2.16.6//
METHOD:PUBLISH
X-WR-CALNAME;VALUE=TEXT:Greater Baltimore Cultural Alliance
BEGIN:VTIMEZONE
TZID:America/New_York
BEGIN:STANDARD
DTSTART:20251102T020000
TZOFFSETFROM:-0400
TZOFFSETTO:-0500
TZNAME:EST
END:STANDARD
BEGIN:DAYLIGHT
DTSTART:20260308T020000
TZOFFSETFROM:-0500
TZOFFSETTO:-0400
TZNAME:EDT
END:DAYLIGHT
END:VTIMEZONE
BEGIN:VEVENT
UID:calendar.37583.field_fc_date.0@culturefly.org
DTSTAMP:20260421T115626Z
ATTACH;FMTTYPE=image/jpeg:https://culturefly.org/sites/default/files/event-
 image/Picture1_0.jpg
CATEGORIES:Performance,Lectures/ Workshops,Professional Development
CREATED:20250318T210524Z
DESCRIPTION:PHYSICAL APPROACH TO CHARACTER WORKSHOPS AT FPCT\n\nThis two cl
 ass exploratory workshop series involves breaking down the  components of 
 a character by making clear and specific physical adjustments  that lead t
 o and support an honest and credible presentation of that  character.\n\nH
 ow can we express point of view? What small changes make a big difference?
  What changes when you are working with a partner?\n\n​​
DTSTART;TZID=America/New_York:20250419T121500
DTEND;TZID=America/New_York:20250419T140000
GEO:+39.288199;-76.591185
LAST-MODIFIED:20250326T131615Z
LOCATION:Fells Point Corner Theatre, 251 S. Ann Street, Baltimore, MD
RRULE:FREQ=WEEKLY;COUNT=1;INTERVAL=1;WKST=SU
SUMMARY:Actor Movement Workshops for Adults
URL:fpct.org/movement
X-GBCA-NID:37583
END:VEVENT
END:VCALENDAR
