BEGIN:VCALENDAR
VERSION:2.0
PRODID:-//Date iCal v2.14-dev//NONSGML kigkonsult.se iCalcreator 2.16.6//
METHOD:PUBLISH
X-WR-CALNAME;VALUE=TEXT:Greater Baltimore Cultural Alliance
BEGIN:VTIMEZONE
TZID:America/New_York
BEGIN:STANDARD
DTSTART:20251102T020000
TZOFFSETFROM:-0400
TZOFFSETTO:-0500
TZNAME:EST
END:STANDARD
BEGIN:DAYLIGHT
DTSTART:20250309T020000
TZOFFSETFROM:-0500
TZOFFSETTO:-0400
RDATE:20260308T020000
TZNAME:EDT
END:DAYLIGHT
END:VTIMEZONE
BEGIN:VEVENT
UID:calendar.37568.field_fc_date.0@culturefly.org
DTSTAMP:20260421T084837Z
ATTACH;FMTTYPE=image/png:https://culturefly.org/sites/default/files/event-i
 mage/2025%20Social%20Media%20Graphics%20%283%29.png
CATEGORIES:Professional Development,Other
CREATED:20250314T183659Z
DESCRIPTION:Baltimore Clayworks is excited to announce that applications fo
 r our 2025-26  Residencies and Fellowships are open! These opportunities s
 upport ceramic  artists at all stages of their careers, providing time, 
 space, and resources  to develop their work within our dynamic community.
DTSTART;TZID=America/New_York:20250314T000000
DTEND;TZID=America/New_York:20250314T170000
GEO:+39.367622;-76.653195
LAST-MODIFIED:20250317T204801Z
LOCATION:Baltimore Clayworks, 5707 Smith Avenue, Baltimore, MD
RRULE:FREQ=DAILY;UNTIL=20250402T075959Z;INTERVAL=1;WKST=SU
SUMMARY:Applications for 2025-26 Residencies & Fellowships Due
URL:https://baltimoreclayworks.org/residencies/
X-GBCA-NID:37568
END:VEVENT
END:VCALENDAR
