BEGIN:VCALENDAR
VERSION:2.0
PRODID:-//Date iCal v2.14-dev//NONSGML kigkonsult.se iCalcreator 2.16.6//
METHOD:PUBLISH
X-WR-CALNAME;VALUE=TEXT:Greater Baltimore Cultural Alliance
BEGIN:VTIMEZONE
TZID:America/New_York
BEGIN:STANDARD
DTSTART:20251102T020000
TZOFFSETFROM:-0400
TZOFFSETTO:-0500
TZNAME:EST
END:STANDARD
BEGIN:DAYLIGHT
DTSTART:20250309T020000
TZOFFSETFROM:-0500
TZOFFSETTO:-0400
RDATE:20260308T020000
TZNAME:EDT
END:DAYLIGHT
END:VTIMEZONE
BEGIN:VEVENT
UID:calendar.37562.field_fc_date.0@culturefly.org
DTSTAMP:20260420T180154Z
ATTACH;FMTTYPE=image/png:https://culturefly.org/sites/default/files/event-i
 mage/Rita%20Dove%20Poetry%20March%2030%20Baltimore%20Museum%20Flyer%20%281
 %29.png
CATEGORIES:Performance
CREATED:20250313T020520Z
DESCRIPTION:*Free Poetry Reading *\n\n*Rita Dove, Former U.S. Poet Laureat
 e and Pulitzer Prizer Winner*\n\nJohns Hopkins Center for Talented Youth p
 resents The Joshua Ringel Memorial  Reading\n\n*Location: *Baltimore Museu
 m of Art, Joseph and Rebecca Meyerhoff Auditorium\n\n*Date and Time: *Sun
 day, March 30, 2025, 2:00 p.m. Doors Open\n\n*Event Registration:  *htt
 ps://events.jhu.edu/form/2025-joshua-ringel-memorial-read [1]\n\n\n[1] htt
 ps://events.jhu.edu/form/2025-joshua-ringel-memorial-read
DTSTART;TZID=America/New_York:20250330T143000
DTEND;TZID=America/New_York:20250330T160000
GEO:+39.325755;-76.61944
LAST-MODIFIED:20250317T204807Z
LOCATION:Baltimore Museum of Art Meyerhoff Auditorium, 10 Art Museum Drive
 , Baltimore, MD
SUMMARY:Rita Dove - Free Poetry Reading
URL:https://events.jhu.edu/form/2025-joshua-ringel-memorial-read
X-GBCA-NID:37562
END:VEVENT
END:VCALENDAR
