BEGIN:VCALENDAR
VERSION:2.0
PRODID:-//Date iCal v2.14-dev//NONSGML kigkonsult.se iCalcreator 2.16.6//
METHOD:PUBLISH
X-WR-CALNAME;VALUE=TEXT:Greater Baltimore Cultural Alliance
BEGIN:VTIMEZONE
TZID:America/New_York
BEGIN:STANDARD
DTSTART:20251102T020000
TZOFFSETFROM:-0400
TZOFFSETTO:-0500
TZNAME:EST
END:STANDARD
BEGIN:DAYLIGHT
DTSTART:20250309T020000
TZOFFSETFROM:-0500
TZOFFSETTO:-0400
RDATE:20260308T020000
TZNAME:EDT
END:DAYLIGHT
END:VTIMEZONE
BEGIN:VEVENT
UID:calendar.37545.field_fc_date.0@culturefly.org
DTSTAMP:20260420T084432Z
ATTACH;FMTTYPE=image/jpeg:https://culturefly.org/sites/default/files/event-
 image/Hill%3AJalenti.jpg
CATEGORIES:Performance,Nightlife
CREATED:20250311T134142Z
DESCRIPTION:Join us for a soulful and swingin’ evening at An die Musik Live
  celebrating  the legendary Duke Ellington, one of the greatest composers
  and bandleaders  in jazz history. This special tribute features pianist A
 aron Hill and  renowned vocalist Irene Jalenti, bringing Ellington’s time
 less melodies to  life with elegance, passion, and improvisational brill
 iance.\n\nEnjoy classics like “Take the ‘A’ Train,” “In a Sentimental  Mo
 od,” “Sophisticated Lady,” “Caravan” and many more—performed  with the e
 nergy and artistry that made Ellington’s music immortal.
DTSTART;TZID=America/New_York:20250321T193000
DTEND;TZID=America/New_York:20250321T213000
LAST-MODIFIED:20250312T150012Z
LOCATION:An Die Musik Live, 409 North Charles Street Second Floor, Baltim
 ore, MD
SUMMARY:Tribute to Duke Ellington: Pianist Aaron Hill & Vocalist Irene Jale
 nti
URL:https://www.instantseats.com/?fuseaction=home.artist&VenueID=321&artist
 id=37754
X-GBCA-NID:37545
END:VEVENT
END:VCALENDAR
