BEGIN:VCALENDAR
VERSION:2.0
PRODID:-//Date iCal v2.14-dev//NONSGML kigkonsult.se iCalcreator 2.16.6//
METHOD:PUBLISH
X-WR-CALNAME;VALUE=TEXT:Greater Baltimore Cultural Alliance
BEGIN:VTIMEZONE
TZID:America/New_York
BEGIN:STANDARD
DTSTART:20251102T020000
TZOFFSETFROM:-0400
TZOFFSETTO:-0500
TZNAME:EST
END:STANDARD
BEGIN:DAYLIGHT
DTSTART:20260308T020000
TZOFFSETFROM:-0500
TZOFFSETTO:-0400
TZNAME:EDT
END:DAYLIGHT
END:VTIMEZONE
BEGIN:VEVENT
UID:calendar.37520.field_fc_date.0@culturefly.org
DTSTAMP:20260420T101416Z
ATTACH;FMTTYPE=image/jpeg:https://culturefly.org/sites/default/files/event-
 image/99094.jpg
CATEGORIES:Exhibition,Lectures/ Workshops
CREATED:20250305T170116Z
DESCRIPTION:Make this spring break one to remember at Port Discovery! From 
 April 12-21,  Enjoy garden-themed exploration activities, creative art p
 rojects, engaging  stories and much more that is sure to bring joy and cr
 eate lasting memories.  It’s the perfect way to celebrate the season with 
 fun for the whole family!\n\nSpring Break Hours April 12, 2025 | 10AM-5PM
  April 13, 2025 | 11AM-5PM April 14, 2025 through April 19, 2025 | 10AM
 -5PM April 20, 2025 | 11AM-5PM April 21, 2025 | 10AM-5PM\n\nLearn more a
 bout Spring Break programming & activities.
DTSTART;TZID=America/New_York:20250412T100000
DTEND;TZID=America/New_York:20250421T170000
GEO:+39.288934;-76.606288
LAST-MODIFIED:20250311T130231Z
LOCATION:Port Discovery Children's Museum, 35 Market Place, Baltimore, M
 D
RRULE:FREQ=DAILY;UNTIL=20250422T075959Z;INTERVAL=1;WKST=SU
SUMMARY:Spring Break at Port Discovery
URL:https://eventvesta.com/events/99094/t/tickets
X-GBCA-NID:37520
END:VEVENT
END:VCALENDAR
