BEGIN:VCALENDAR
VERSION:2.0
PRODID:-//Date iCal v2.14-dev//NONSGML kigkonsult.se iCalcreator 2.16.6//
METHOD:PUBLISH
X-WR-CALNAME;VALUE=TEXT:Greater Baltimore Cultural Alliance
BEGIN:VTIMEZONE
TZID:America/New_York
BEGIN:STANDARD
DTSTART:20251102T020000
TZOFFSETFROM:-0400
TZOFFSETTO:-0500
TZNAME:EST
END:STANDARD
BEGIN:DAYLIGHT
DTSTART:20260308T020000
TZOFFSETFROM:-0500
TZOFFSETTO:-0400
TZNAME:EDT
END:DAYLIGHT
END:VTIMEZONE
BEGIN:VEVENT
UID:calendar.37519.field_fc_date.0@culturefly.org
DTSTAMP:20260420T090001Z
ATTACH;FMTTYPE=image/jpeg:https://culturefly.org/sites/default/files/event-
 image/greg%20hatza.jpg
CATEGORIES:Performance,GBCA Events
CREATED:20250304T212716Z
DESCRIPTION:Join us in welcoming Greg Hatza for a night of jazz organ music
  and more!\n\nTickets: $20 online, $25 at the door Doors open at 7 pm, p
 erformance begins at 7:30 pm.
DTSTART;TZID=America/New_York:20250510T193000
DTEND;TZID=America/New_York:20250510T213000
LAST-MODIFIED:20250305T142205Z
LOCATION:BCAG Catonsville Clubhouse , Suite 200, 10 St. Timothys Lane, C
 atonsville, MD
SUMMARY:Greg Hatza Concert
URL:https://www.bcartsguild.org/event-details/greg-hatza-concert
X-GBCA-NID:37519
END:VEVENT
END:VCALENDAR
