BEGIN:VCALENDAR
VERSION:2.0
PRODID:-//Date iCal v2.14-dev//NONSGML kigkonsult.se iCalcreator 2.16.6//
METHOD:PUBLISH
X-WR-CALNAME;VALUE=TEXT:Greater Baltimore Cultural Alliance
BEGIN:VTIMEZONE
TZID:America/New_York
BEGIN:STANDARD
DTSTART:20251102T020000
TZOFFSETFROM:-0400
TZOFFSETTO:-0500
TZNAME:EST
END:STANDARD
BEGIN:DAYLIGHT
DTSTART:20260308T020000
TZOFFSETFROM:-0500
TZOFFSETTO:-0400
TZNAME:EDT
END:DAYLIGHT
END:VTIMEZONE
BEGIN:VEVENT
UID:calendar.37485.field_fc_date.0@culturefly.org
DTSTAMP:20260420T084629Z
ATTACH;FMTTYPE=image/jpeg:https://culturefly.org/sites/default/files/event-
 image/WineVine24_1500x650.jpg
CATEGORIES:Activities,Nightlife
CREATED:20250226T194858Z
DESCRIPTION:Enjoy an adult evening of food and wine, live music, plant sw
 aps, and yard  games.\n\nThis event is for adults 21+
DTSTART;TZID=America/New_York:20250411T183000
DTEND;TZID=America/New_York:20250411T210000
GEO:+39.285422;-76.632745
LAST-MODIFIED:20250226T195158Z
LOCATION:B&O Railroad Museum, 901 W. Pratt Street, Baltimore, MD
SUMMARY:Wine & Vine
URL:https://www.borail.org/events/wine-and-vine/
X-GBCA-NID:37485
END:VEVENT
END:VCALENDAR
