BEGIN:VCALENDAR
VERSION:2.0
PRODID:-//Date iCal v2.14-dev//NONSGML kigkonsult.se iCalcreator 2.16.6//
METHOD:PUBLISH
X-WR-CALNAME;VALUE=TEXT:Greater Baltimore Cultural Alliance
BEGIN:VTIMEZONE
TZID:America/New_York
BEGIN:STANDARD
DTSTART:20251102T020000
TZOFFSETFROM:-0400
TZOFFSETTO:-0500
TZNAME:EST
END:STANDARD
BEGIN:DAYLIGHT
DTSTART:20250309T020000
TZOFFSETFROM:-0500
TZOFFSETTO:-0400
RDATE:20260308T020000
TZNAME:EDT
END:DAYLIGHT
END:VTIMEZONE
BEGIN:VEVENT
UID:calendar.37480.field_fc_date.0@culturefly.org
DTSTAMP:20260421T083745Z
ATTACH;FMTTYPE=image/jpeg:https://culturefly.org/sites/default/files/event-
 image/saig4TQz1Ui-lqvr7lhFRA.large_.jpg
CATEGORIES:Activities,History & Heritage
CREATED:20250226T064714Z
DTSTART;TZID=America/New_York:20250314T160000
DTEND;TZID=America/New_York:20250314T200000
GEO:+39.288568;-76.604436
LAST-MODIFIED:20250226T141313Z
LOCATION:Carroll Mansion, 800 E. Lombard Street, Baltimore, MD
SUMMARY:Pints for Poe, A 'Kiss Me, I WAS Irish' St. Patrick's Party
URL:https://www.poeinbaltimore.org/event/pints-for-poe-2025/
X-GBCA-NID:37480
END:VEVENT
END:VCALENDAR
