BEGIN:VCALENDAR
VERSION:2.0
PRODID:-//Date iCal v2.14-dev//NONSGML kigkonsult.se iCalcreator 2.16.6//
METHOD:PUBLISH
X-WR-CALNAME;VALUE=TEXT:Greater Baltimore Cultural Alliance
BEGIN:VTIMEZONE
TZID:America/New_York
BEGIN:STANDARD
DTSTART:20251102T020000
TZOFFSETFROM:-0400
TZOFFSETTO:-0500
TZNAME:EST
END:STANDARD
BEGIN:DAYLIGHT
DTSTART:20250309T020000
TZOFFSETFROM:-0500
TZOFFSETTO:-0400
TZNAME:EDT
END:DAYLIGHT
END:VTIMEZONE
BEGIN:VEVENT
UID:calendar.37469.field_fc_date.0@culturefly.org
DTSTAMP:20260421T084307Z
ATTACH;FMTTYPE=image/jpeg:https://culturefly.org/sites/default/files/event-
 image/TINO_WWTCOY_three%20channel.jpg
CATEGORIES:Exhibition,Baker Artist,Lectures/ Workshops
CREATED:20250224T202225Z
DESCRIPTION:*There is No One What Will Take Care of You*\n\nDirector and wr
 iter Dina Fiasconaro’s three–channel video installation  explores the rela
 tionships between a father, daughter and friend whose lives  are tragical
 ly impacted by addiction\n\n*The School of Design, Arts and Communication
  Lobby Gallery*\n\nStevenson University Owings Mills North Campus, 11100 
 Ted Herget Lane, Owings  Mills, MD 21117
DTSTART;TZID=America/New_York:20250127T090000
DTEND;TZID=America/New_York:20250419T160000
LAST-MODIFIED:20250225T145353Z
LOCATION:Stevenson University School of Design, Arts and Communication, 1
 1100 Ted Herget Way, Owings Mills North Campus, Owings Mills, MD
SUMMARY:There is No One What Will Take Care of You– Director and writer Din
 a  Fiasconaro’s three–channel video installation explores the relationship
 s  between a father, daughter and friend whose lives are tragically impac
 ted by  addiction
URL;TYPE=URI:https://culturefly.org/calendar/event/37469/there-no-one-what-
 will-take-care-you%E2%80%93-director-and-writer-dina-fiasconaro%E2%80%99s
X-GBCA-NID:37469
END:VEVENT
END:VCALENDAR
