BEGIN:VCALENDAR
VERSION:2.0
PRODID:-//Date iCal v2.14-dev//NONSGML kigkonsult.se iCalcreator 2.16.6//
METHOD:PUBLISH
X-WR-CALNAME;VALUE=TEXT:Greater Baltimore Cultural Alliance
BEGIN:VTIMEZONE
TZID:America/New_York
BEGIN:STANDARD
DTSTART:20251102T020000
TZOFFSETFROM:-0400
TZOFFSETTO:-0500
TZNAME:EST
END:STANDARD
BEGIN:DAYLIGHT
DTSTART:20260308T020000
TZOFFSETFROM:-0500
TZOFFSETTO:-0400
TZNAME:EDT
END:DAYLIGHT
END:VTIMEZONE
BEGIN:VEVENT
UID:calendar.37468.field_fc_date.0@culturefly.org
DTSTAMP:20260421T101930Z
ATTACH;FMTTYPE=image/jpeg:https://culturefly.org/sites/default/files/event-
 image/34th%20Annual%20Gem%2C%20Mineral%2C%20Fossil%20%26%20Jewelry%20Show.
 jpg
CATEGORIES:Exhibition,History & Heritage,Other
CREATED:20250224T194702Z
DESCRIPTION:Chesapeake Gem and Mineral Society presents their 34th Annual G
 em, Mineral,  Fossil & Jewelry Show. Free Admission - Free Parking. Mine
 rals, Original  Jewelry, Fossils, Rough & Cut Gemstones. Silent Auction
 s, Door Prizes and  Activities for Kids.\n\nHoward County Fairgrounds\n\n
 2210 Fairgrounds Rd. West Friendship, Md 21794\n\nApril 19, 2025\n\n10 A
 M - 4 PM\n\nWebpage: https://www.chesapeakegemandmineral.org/club-show.htm
 l [1]\n\n\n[1] https://www.chesapeakegemandmineral.org/club-show.html
DTSTART;TZID=America/New_York:20250419T100000
DTEND;TZID=America/New_York:20250419T160000
LAST-MODIFIED:20250225T145353Z
LOCATION:Howard County Fairgrounds, 2210 Fairgrounds Rd., West Friendship
 , MD
SUMMARY:34th Annual Gem, Mineral, Fossil & Jewelry Show
URL:https://www.chesapeakegemandmineral.org/club-show.html
X-GBCA-NID:37468
END:VEVENT
END:VCALENDAR
