BEGIN:VCALENDAR
VERSION:2.0
PRODID:-//Date iCal v2.14-dev//NONSGML kigkonsult.se iCalcreator 2.16.6//
METHOD:PUBLISH
X-WR-CALNAME;VALUE=TEXT:Greater Baltimore Cultural Alliance
BEGIN:VTIMEZONE
TZID:America/New_York
BEGIN:STANDARD
DTSTART:20251102T020000
TZOFFSETFROM:-0400
TZOFFSETTO:-0500
TZNAME:EST
END:STANDARD
BEGIN:DAYLIGHT
DTSTART:20250309T020000
TZOFFSETFROM:-0500
TZOFFSETTO:-0400
RDATE:20260308T020000
TZNAME:EDT
END:DAYLIGHT
END:VTIMEZONE
BEGIN:VEVENT
UID:calendar.37458.field_fc_date.0@culturefly.org
DTSTAMP:20260420T150051Z
ATTACH;FMTTYPE=image/png:https://culturefly.org/sites/default/files/event-i
 mage/Announcement.png
CATEGORIES:Performance,Lectures/ Workshops,Activities
CREATED:20250222T144515Z
DESCRIPTION:Location: North Baltimore County/Owings Mills/Pikesville area,
  about 20  minutes north of Baltimore City.\n\nDescription: Step into an a
 lternative history of the Victorian era at the annual Tell-Tale  Steampunk
  Festival! Emphasizing creativity and imagination, this  family-friendly 
 event features authors, workshops, and panel discussions.  Enjoy unique 
 activities like Tea Dueling, costume/regalia competitions, and a  silent
  auction, along with evening musical entertainment.
DTSTART;VALUE=DATE:20250329
DTEND;VALUE=DATE:20250331
LAST-MODIFIED:20250225T145356Z
LOCATION:DoubleTree by Hilton Hotel Baltimore North – Pikesville, 1726 Rei
 sterstown Rd, Pikesville, MD
SUMMARY:Tell-Tale Steampunk Festival
URL:https://telltalesteampunk.com
X-GBCA-NID:37458
END:VEVENT
END:VCALENDAR
