BEGIN:VCALENDAR
VERSION:2.0
PRODID:-//Date iCal v2.14-dev//NONSGML kigkonsult.se iCalcreator 2.16.6//
METHOD:PUBLISH
X-WR-CALNAME;VALUE=TEXT:Greater Baltimore Cultural Alliance
BEGIN:VTIMEZONE
TZID:America/New_York
BEGIN:STANDARD
DTSTART:20251102T020000
TZOFFSETFROM:-0400
TZOFFSETTO:-0500
TZNAME:EST
END:STANDARD
BEGIN:DAYLIGHT
DTSTART:20250309T020000
TZOFFSETFROM:-0500
TZOFFSETTO:-0400
RDATE:20260308T020000
TZNAME:EDT
END:DAYLIGHT
END:VTIMEZONE
BEGIN:VEVENT
UID:calendar.37451.field_fc_date.0@culturefly.org
DTSTAMP:20260420T084459Z
ATTACH;FMTTYPE=image/png:https://culturefly.org/sites/default/files/event-i
 mage/1_11.png
CATEGORIES:Performance
CREATED:20250221T052538Z
DESCRIPTION:Going out for the night and tired of the same old music? Tripwi
 re is a  polished, high-energy modern rock band out of Maryland playing a
  unique mix  of music that you won’t find anywhere else!\n\nPlan Ahead: Sh
 ow starts at 9:30pm $10 cash cover begins at 8pm\n\nStop in early for dinn
 er & drinks: Dinner Menu: bit.ly/Twains-menu Drinks Menu: bit.ly/twains-dr
 inks\n\nCall (410) 647-5200 to reserve a table or VIP area.
DTSTART;TZID=America/New_York:20250328T213000
DTEND;TZID=America/New_York:20250329T010000
LAST-MODIFIED:20250221T181303Z
LOCATION:Twain’s Tavern     , 8359 Baltimore Annapolis Boulevard, Pasaden
 a, MD
SUMMARY:TRIPWIRE at Twain’s Tavern
URL:https://eventvesta.com/events/97592/t/tickets
X-GBCA-NID:37451
END:VEVENT
END:VCALENDAR
