BEGIN:VCALENDAR
VERSION:2.0
PRODID:-//Date iCal v2.14-dev//NONSGML kigkonsult.se iCalcreator 2.16.6//
METHOD:PUBLISH
X-WR-CALNAME;VALUE=TEXT:Greater Baltimore Cultural Alliance
BEGIN:VTIMEZONE
TZID:America/New_York
BEGIN:STANDARD
DTSTART:20251102T020000
TZOFFSETFROM:-0400
TZOFFSETTO:-0500
TZNAME:EST
END:STANDARD
BEGIN:DAYLIGHT
DTSTART:20250309T020000
TZOFFSETFROM:-0500
TZOFFSETTO:-0400
TZNAME:EDT
END:DAYLIGHT
END:VTIMEZONE
BEGIN:VEVENT
UID:calendar.37437.field_fc_date.0@culturefly.org
DTSTAMP:20260420T090140Z
ATTACH;FMTTYPE=image/jpeg:https://culturefly.org/sites/default/files/event-
 image/Brooklyn%20Rider.jpg
CATEGORIES:Performance
CREATED:20250219T220434Z
DESCRIPTION:The 63rd Henry and Ruth Blaustein Rosenberg Lecture-Performance
  presents  renowned string quartet Brooklyn Rider in concert, followed by
  an on-stage  interview with WYPR’s Tom Hall. With their gripping performa
 nce style and  appetite for musical adventure, Brooklyn Rider has carved 
 a singular space in  the world of string quartets over their 15-year histo
 ry.
DTSTART;TZID=America/New_York:20250227T190000
DTEND;TZID=America/New_York:20250227T210000
GEO:+39.409959;-76.595686
LAST-MODIFIED:20250220T173059Z
LOCATION:Kraushaar Auditorium at Goucher College, 1021 Dulaney Valley Road
 , Towson, MD
SUMMARY:Brooklyn Rider in concert
URL:https://goucher.universitytickets.com/w/event.aspx?id=1360
X-GBCA-NID:37437
END:VEVENT
END:VCALENDAR
