BEGIN:VCALENDAR
VERSION:2.0
PRODID:-//Date iCal v2.14-dev//NONSGML kigkonsult.se iCalcreator 2.16.6//
METHOD:PUBLISH
X-WR-CALNAME;VALUE=TEXT:Greater Baltimore Cultural Alliance
BEGIN:VTIMEZONE
TZID:America/New_York
BEGIN:STANDARD
DTSTART:20251102T020000
TZOFFSETFROM:-0400
TZOFFSETTO:-0500
TZNAME:EST
END:STANDARD
BEGIN:DAYLIGHT
DTSTART:20250309T020000
TZOFFSETFROM:-0500
TZOFFSETTO:-0400
TZNAME:EDT
END:DAYLIGHT
END:VTIMEZONE
BEGIN:VEVENT
UID:calendar.37420.field_fc_date.0@culturefly.org
DTSTAMP:20260420T232412Z
ATTACH;FMTTYPE=image/jpeg:https://culturefly.org/sites/default/files/event-
 image/Wayne%20Williams.jpg
CATEGORIES:Performance,Nightlife
CREATED:20250218T225231Z
DESCRIPTION:Join Wayne Williams and 5th Sense for an evening of jazz at An 
 die Musik  Live!\n\nWanye Williams, vibes James 'JJ' Ratchford, tenor sa
 xophone Indra Caprio-Pretel, piano Rayah Thomas, bass Koleby Royston, d
 rums\n\nWanye (Wan) Williams is a Chicago-based African American musician\
 , who  started as a classical percussionist but has dedicated the past two
  years to  learning and performing as a jazz vibraphonist, drummer and pi
 anist.
DTSTART;TZID=America/New_York:20250222T190000
DTEND;TZID=America/New_York:20250222T210000
LAST-MODIFIED:20250219T124026Z
LOCATION:An Die Musik Live, 409 North Charles Street Second Floor, Baltim
 ore, MD
SUMMARY:Wanye Williams 5th Sense
URL:https://www.instantseats.com/?fuseaction=home.artist&VenueID=321&artist
 id=37658
X-GBCA-NID:37420
END:VEVENT
END:VCALENDAR
