BEGIN:VCALENDAR
VERSION:2.0
PRODID:-//Date iCal v2.14-dev//NONSGML kigkonsult.se iCalcreator 2.16.6//
METHOD:PUBLISH
X-WR-CALNAME;VALUE=TEXT:Greater Baltimore Cultural Alliance
BEGIN:VTIMEZONE
TZID:America/New_York
BEGIN:STANDARD
DTSTART:20251102T020000
TZOFFSETFROM:-0400
TZOFFSETTO:-0500
TZNAME:EST
END:STANDARD
BEGIN:DAYLIGHT
DTSTART:20250309T020000
TZOFFSETFROM:-0500
TZOFFSETTO:-0400
TZNAME:EDT
END:DAYLIGHT
END:VTIMEZONE
BEGIN:VEVENT
UID:calendar.37419.field_fc_date.0@culturefly.org
DTSTAMP:20260420T163847Z
ATTACH;FMTTYPE=image/jpeg:https://culturefly.org/sites/default/files/event-
 image/Isaac%20Felix%3ANate%20Tota.jpg
CATEGORIES:Performance,Nightlife
CREATED:20250218T224425Z
DESCRIPTION:Join the Isaac Felix and Nate Tota Quartet for an evening of Ja
 zz at An die  Musik Live!\n\nIsaac Felix, guitar Nate Tota, alto saxopho
 ne Nicholas Krolak, bass Koleby Royston, drums
DTSTART;TZID=America/New_York:20250221T190000
DTEND;TZID=America/New_York:20250221T210000
LAST-MODIFIED:20250219T124026Z
LOCATION:An Die Musik Live, 409 North Charles Street Second Floor, Baltim
 ore, MD
SUMMARY:Isaac Felix & Nate Tota Quartet
URL:https://www.instantseats.com/?fuseaction=home.artist&VenueID=321&artist
 id=37662
X-GBCA-NID:37419
END:VEVENT
END:VCALENDAR
