BEGIN:VCALENDAR
VERSION:2.0
PRODID:-//Date iCal v2.14-dev//NONSGML kigkonsult.se iCalcreator 2.16.6//
METHOD:PUBLISH
X-WR-CALNAME;VALUE=TEXT:Greater Baltimore Cultural Alliance
BEGIN:VTIMEZONE
TZID:America/New_York
BEGIN:STANDARD
DTSTART:20251102T020000
TZOFFSETFROM:-0400
TZOFFSETTO:-0500
TZNAME:EST
END:STANDARD
BEGIN:DAYLIGHT
DTSTART:20260308T020000
TZOFFSETFROM:-0500
TZOFFSETTO:-0400
TZNAME:EDT
END:DAYLIGHT
END:VTIMEZONE
BEGIN:VEVENT
UID:calendar.37397.field_fc_date.0@culturefly.org
DTSTAMP:20260421T230322Z
ATTACH;FMTTYPE=image/jpeg:https://culturefly.org/sites/default/files/event-
 image/Ben%20Folds.jpeg
CATEGORIES:Performance
CREATED:20250217T003440Z
DESCRIPTION:The Merriweather Arts and Culture Center (MACC) presents a spec
 ial evening of  live music on Sunday, May 18, 2025, at the Merriweather
  Post Pavilion,  featuring internationally acclaimed artist Ben Folds wit
 h the Howard County  Youth Orchestra (HCYO)!\n\nThe Emmy-nominated compose
 r, singer-songwriter, and pianist joins the HCYO  for a one-night-only p
 erformance of songs from Folds’ enormous body of  genre-bending music in w
 hat promises to be an unforgettable experience.
DTSTART;TZID=America/New_York:20250518T193000
DTEND;TZID=America/New_York:20250518T213000
GEO:+39.208771;-76.862779
LAST-MODIFIED:20250218T132616Z
LOCATION:Merriweather Post Pavilion, 10475 Little Patuxent Parkway, Colum
 bia, MD
SUMMARY:Ben Folds and the Howard County Youth Orchestra
URL:https://merriweathermusic.com/
X-GBCA-NID:37397
END:VEVENT
END:VCALENDAR
