BEGIN:VCALENDAR
VERSION:2.0
PRODID:-//Date iCal v2.14-dev//NONSGML kigkonsult.se iCalcreator 2.16.6//
METHOD:PUBLISH
X-WR-CALNAME;VALUE=TEXT:Greater Baltimore Cultural Alliance
BEGIN:VTIMEZONE
TZID:America/New_York
BEGIN:STANDARD
DTSTART:20251102T020000
TZOFFSETFROM:-0400
TZOFFSETTO:-0500
TZNAME:EST
END:STANDARD
BEGIN:DAYLIGHT
DTSTART:20250309T020000
TZOFFSETFROM:-0500
TZOFFSETTO:-0400
TZNAME:EDT
END:DAYLIGHT
END:VTIMEZONE
BEGIN:VEVENT
UID:calendar.37393.field_fc_date.0@culturefly.org
DTSTAMP:20260421T132919Z
ATTACH;FMTTYPE=image/jpeg:https://culturefly.org/sites/default/files/event-
 image/202503_Theatre_IntimateApparel.jpg
CATEGORIES:Performance
CREATED:20250214T180314Z
DESCRIPTION:Intimate Apparel by Pulitzer winning playwright Lynn Nottage, 
 delves into the  life of Esther, a talented African American seamstress i
 n early 20th century  New York City. Specializing in creating exquisite li
 ngerie, Esther navigates  the complexities of love, identity, and ambit
 ion amidst the racial and social  constraints of her time. Her interaction
 s with clients from different walks  of life reveal deep, personal storie
 s of longing and resilience.
DTSTART;TZID=America/New_York:20250306T193000
DTEND;TZID=America/New_York:20250313T220000
GEO:+39.39131;-76.612837
LAST-MODIFIED:20250218T132616Z
LOCATION:Center for the Arts at Towson University , 7700 Osler Drive, Tow
 son, MD
SUMMARY:Intimate Apparel
URL:https://tickets.tuboxoffice.com/eventperformances.asp?evt=256
X-GBCA-NID:37393
END:VEVENT
END:VCALENDAR
