BEGIN:VCALENDAR
VERSION:2.0
PRODID:-//Date iCal v2.14-dev//NONSGML kigkonsult.se iCalcreator 2.16.6//
METHOD:PUBLISH
X-WR-CALNAME;VALUE=TEXT:Greater Baltimore Cultural Alliance
BEGIN:VTIMEZONE
TZID:America/New_York
BEGIN:STANDARD
DTSTART:20251102T020000
TZOFFSETFROM:-0400
TZOFFSETTO:-0500
TZNAME:EST
END:STANDARD
BEGIN:DAYLIGHT
DTSTART:20250309T020000
TZOFFSETFROM:-0500
TZOFFSETTO:-0400
TZNAME:EDT
END:DAYLIGHT
END:VTIMEZONE
BEGIN:VEVENT
UID:calendar.37388.field_fc_date.0@culturefly.org
DTSTAMP:20260420T115707Z
ATTACH;FMTTYPE=image/jpeg:https://culturefly.org/sites/default/files/event-
 image/Hot%20Club.jpg
CATEGORIES:Performance,Nightlife
CREATED:20250213T210613Z
DESCRIPTION:The Hot Club of Baltimore performs inspired arrangements of the
  Django  Reinhardt repertoire, French waltzes, and traditional Jazz at A
 n die Musik  Live!\n\nMichael Joseph Harris, guitar Connor Holdridge, gu
 itar Shawn Simon, bass special guest Eli Bishop, violin\n\nLed by guitar
 ist and composer Michael Joseph Harris, the Hot Club of  Baltimore has ga
 ined national recognition, performing at prestigious venues  from The Ken
 nedy Center to the Django Reinhardt Festival.
DTSTART;TZID=America/New_York:20250220T190000
DTEND;TZID=America/New_York:20250220T210000
LAST-MODIFIED:20250214T140555Z
LOCATION:An Die Musik Live, 409 North Charles Street Second Floor, Baltim
 ore, MD
SUMMARY:Hot Club of Baltimore ft. Nashville violinist Eli Bishop
URL:https://www.instantseats.com/?fuseaction=home.artist&VenueID=321&artist
 id=37656
X-GBCA-NID:37388
END:VEVENT
END:VCALENDAR
