BEGIN:VCALENDAR
VERSION:2.0
PRODID:-//Date iCal v2.14-dev//NONSGML kigkonsult.se iCalcreator 2.16.6//
METHOD:PUBLISH
X-WR-CALNAME;VALUE=TEXT:Greater Baltimore Cultural Alliance
BEGIN:VTIMEZONE
TZID:America/New_York
BEGIN:STANDARD
DTSTART:20251102T020000
TZOFFSETFROM:-0400
TZOFFSETTO:-0500
TZNAME:EST
END:STANDARD
BEGIN:DAYLIGHT
DTSTART:20250309T020000
TZOFFSETFROM:-0500
TZOFFSETTO:-0400
TZNAME:EDT
END:DAYLIGHT
END:VTIMEZONE
BEGIN:VEVENT
UID:calendar.37387.field_fc_date.0@culturefly.org
DTSTAMP:20260420T133327Z
ATTACH;FMTTYPE=image/jpeg:https://culturefly.org/sites/default/files/event-
 image/Roberto%20Villeda.jpg
CATEGORIES:Performance,Nightlife
CREATED:20250213T204954Z
DESCRIPTION:Join Roberto Villeda as he makes his highly anticipated debut a
 s a bandleader  at An die Musik Live! He will bring together a powerhouse 
 ensemble of  masterful musicians to explore the dynamic world of Latin jaz
 z. This exciting  performance blends the improvisational freedom of jazz w
 ith the vibrant,  traditional rhythms of Cuba, Brazil, and South Americ
 a, creating a thrilling  fusion of culture and sound.\n\nRoberto Villeda\
 , piano Michael Paxton, sax Juan Navarro, guitar Mike Pope, bass Fran V
 ielma, percussion Koleby Royston, drums
DTSTART;TZID=America/New_York:20250218T190000
DTEND;TZID=America/New_York:20250218T210000
LAST-MODIFIED:20250214T140555Z
LOCATION:An Die Musik Live, 409 North Charles Street Second Floor, Baltim
 ore, MD
SUMMARY:Roberto Villeda and the Latin Perspective
URL:https://www.instantseats.com/?fuseaction=home.artist&VenueID=321&artist
 id=37661
X-GBCA-NID:37387
END:VEVENT
END:VCALENDAR
