BEGIN:VCALENDAR
VERSION:2.0
PRODID:-//Date iCal v2.14-dev//NONSGML kigkonsult.se iCalcreator 2.16.6//
METHOD:PUBLISH
X-WR-CALNAME;VALUE=TEXT:Greater Baltimore Cultural Alliance
BEGIN:VTIMEZONE
TZID:America/New_York
BEGIN:STANDARD
DTSTART:20251102T020000
TZOFFSETFROM:-0400
TZOFFSETTO:-0500
TZNAME:EST
END:STANDARD
BEGIN:DAYLIGHT
DTSTART:20250309T020000
TZOFFSETFROM:-0500
TZOFFSETTO:-0400
RDATE:20260308T020000
TZNAME:EDT
END:DAYLIGHT
END:VTIMEZONE
BEGIN:VEVENT
UID:calendar.37385.field_fc_date.0@culturefly.org
DTSTAMP:20260421T200159Z
ATTACH;FMTTYPE=image/png:https://culturefly.org/sites/default/files/event-i
 mage/Fundamentals%20of%20Musical%20Improv%20Mar%202025-2-Instagram.png
CATEGORIES:Performance,Lectures/ Workshops,Activities,Nightlife
CREATED:20250213T163408Z
DESCRIPTION:Do you love to sing? Do you love to make up stories? Do you lov
 e to joke  around with friends? Take any or all of those budding interests
  to the next  level with this musical improv intensive!\n\nIn just four we
 eks, you’ll learn all the big concepts you need to  successfully perform 
 on a musical improv team. That includes: song structure,  musicality, im
 prov content, scene-into-song, and a narrative format (Fairy  Tale).\n\n
 Showcase Performance
DTSTART;TZID=America/New_York:20250313T183000
DTEND;TZID=America/New_York:20250313T213000
LAST-MODIFIED:20250214T140555Z
LOCATION:Riverside Third Space, 1530 Battery Avenue, Baltimore, MD
SUMMARY:Fundamentals of Musical Improv - Multi-Week Class!
URL:https://www.highwireimprov.com
X-GBCA-NID:37385
END:VEVENT
END:VCALENDAR
