BEGIN:VCALENDAR
VERSION:2.0
PRODID:-//Date iCal v2.14-dev//NONSGML kigkonsult.se iCalcreator 2.16.6//
METHOD:PUBLISH
X-WR-CALNAME;VALUE=TEXT:Greater Baltimore Cultural Alliance
BEGIN:VTIMEZONE
TZID:America/New_York
BEGIN:STANDARD
DTSTART:20251102T020000
TZOFFSETFROM:-0400
TZOFFSETTO:-0500
TZNAME:EST
END:STANDARD
BEGIN:DAYLIGHT
DTSTART:20260308T020000
TZOFFSETFROM:-0500
TZOFFSETTO:-0400
TZNAME:EDT
END:DAYLIGHT
END:VTIMEZONE
BEGIN:VEVENT
UID:calendar.37363.field_fc_date.0@culturefly.org
DTSTAMP:20260421T214235Z
ATTACH;FMTTYPE=image/jpeg:https://culturefly.org/sites/default/files/u10171
 /15%20-%20Music%20for%20Good%20Friay.jpg
CATEGORIES:Performance
CREATED:20250211T163226Z
DESCRIPTION:Join the Choir of St. David’s on Friday, April 18 at 7:30 pm f
 or a program  of choral and organ music exploring the love, life, and lo
 ss at the center of  Holy Week drawing inspiration from the ancient chant 
 'Pange lingua' ('Sing,  my tongue').\n\nThe event is free and open to the
  public, with doors opening at 7:00 pm. A  suggested donation of $10-$20 
 directly benefits the musicians and the music  series.\n\nThe event will a
 lso be livestreamed via Facebook and YouTube at  https://www.youtube.com/@
 stdavidsbaltimore [1].\n\n\n[1] https://www.youtube.com/@stdavidsbaltimore
DTSTART;TZID=America/New_York:20250418T193000
DTEND;TZID=America/New_York:20250418T203000
LAST-MODIFIED:20260103T001256Z
LOCATION:Music at St David's, 4700 Roland Ave, Baltimore, MD
SUMMARY:Music for Good Friday: Sing, My Tongue
URL:https://www.eventbrite.com/e/music-for-good-friday-sing-my-tongue-ticke
 ts-1246257823699
X-GBCA-NID:37363
END:VEVENT
END:VCALENDAR
