BEGIN:VCALENDAR
VERSION:2.0
PRODID:-//Date iCal v2.14-dev//NONSGML kigkonsult.se iCalcreator 2.16.6//
METHOD:PUBLISH
X-WR-CALNAME;VALUE=TEXT:Greater Baltimore Cultural Alliance
BEGIN:VTIMEZONE
TZID:America/New_York
BEGIN:STANDARD
DTSTART:20251102T020000
TZOFFSETFROM:-0400
TZOFFSETTO:-0500
TZNAME:EST
END:STANDARD
BEGIN:DAYLIGHT
DTSTART:20250309T020000
TZOFFSETFROM:-0500
TZOFFSETTO:-0400
RDATE:20260308T020000
TZNAME:EDT
END:DAYLIGHT
END:VTIMEZONE
BEGIN:VEVENT
UID:calendar.37362.field_fc_date.0@culturefly.org
DTSTAMP:20260419T121848Z
ATTACH;FMTTYPE=image/jpeg:https://culturefly.org/sites/default/files/u10171
 /14%20-%20Magdalena.jpg
CATEGORIES:Performance
CREATED:20250211T162319Z
DESCRIPTION:Join the musicians of the award-winning early music consort Mag
 dalena in a  virtuosic exploration of past centuries of music on April 4 a
 t 7:30 pm.\n\nThe event is free and open to the public, with doors openin
 g at 7:00 pm. A  suggested donation of $10-$20 directly benefits the music
 ians and the music  series.
DTSTART;TZID=America/New_York:20250404T193000
DTEND;TZID=America/New_York:20250404T210000
LAST-MODIFIED:20260103T001256Z
LOCATION:Music at St David's, 4700 Roland Ave, Baltimore, MD
SUMMARY:Magdalena Early Music Consort
URL:https://www.eventbrite.com/e/magdalena-early-music-consort-tickets-1246
 252547919
X-GBCA-NID:37362
END:VEVENT
END:VCALENDAR
